BEGIN:VCALENDAR
VERSION:2.0
PRODID:-//Langston University - ECPv6.5.2//NONSGML v1.0//EN
CALSCALE:GREGORIAN
METHOD:PUBLISH
X-ORIGINAL-URL:https://langston.edu
X-WR-CALDESC:Events for Langston University
REFRESH-INTERVAL;VALUE=DURATION:PT1H
X-Robots-Tag:noindex
X-PUBLISHED-TTL:PT1H
BEGIN:VTIMEZONE
TZID:America/Chicago
BEGIN:DAYLIGHT
TZOFFSETFROM:-0600
TZOFFSETTO:-0500
TZNAME:CDT
DTSTART:20250309T080000
END:DAYLIGHT
BEGIN:STANDARD
TZOFFSETFROM:-0500
TZOFFSETTO:-0600
TZNAME:CST
DTSTART:20251102T070000
END:STANDARD
END:VTIMEZONE
BEGIN:VEVENT
DTSTART;TZID=America/Chicago:20250228T080000
DTEND;TZID=America/Chicago:20250228T150000
DTSTAMP:20260420T200249
CREATED:20250224T153831Z
LAST-MODIFIED:20250224T153908Z
UID:10000687-1740729600-1740754800@langston.edu
SUMMARY:HBCU Day
DESCRIPTION:HBCU Day at Kipp OKC is hosted by the Office of Student Life on February 28\, 2025\, from 8:00 am – 3:00 pm. A charter bus is provided. Kipp OKC is located at 8400 N Robinson Ave\, Oklahoma City\, OK 73114.
URL:https://langston.edu/event/event-hbcu-day/
LOCATION:KIPP OKC\, 8400 N Robinson Avenue\, Oklahoma City\, OK\, 73114\, United States
END:VEVENT
END:VCALENDAR