BEGIN:VCALENDAR
VERSION:2.0
PRODID:-//Langston University - ECPv6.5.2//NONSGML v1.0//EN
CALSCALE:GREGORIAN
METHOD:PUBLISH
X-WR-CALNAME:Langston University
X-ORIGINAL-URL:https://langston.edu
X-WR-CALDESC:Events for Langston University
REFRESH-INTERVAL;VALUE=DURATION:PT1H
X-Robots-Tag:noindex
X-PUBLISHED-TTL:PT1H
BEGIN:VTIMEZONE
TZID:America/Chicago
BEGIN:DAYLIGHT
TZOFFSETFROM:-0600
TZOFFSETTO:-0500
TZNAME:CDT
DTSTART:20250309T080000
END:DAYLIGHT
BEGIN:STANDARD
TZOFFSETFROM:-0500
TZOFFSETTO:-0600
TZNAME:CST
DTSTART:20251102T070000
END:STANDARD
END:VTIMEZONE
BEGIN:VEVENT
DTSTART;TZID=America/Chicago:20250929T110000
DTEND;TZID=America/Chicago:20250929T130000
DTSTAMP:20260420T230040
CREATED:20250927T202348Z
LAST-MODIFIED:20250927T202348Z
UID:10001231-1759143600-1759150800@langston.edu
SUMMARY:SAB Street Team Room Raiders
DESCRIPTION:SAB Street team room raiders\, hosted by the SAB Street Team\, is Sep. 29\, 2025\, at 11:00 am. The event is supported by the Office of Student Life.
URL:https://langston.edu/event/sab-street-team-room-raiders/
LOCATION:Campus\, 701 Sammy Davis Jr Dr\, Langston\, OK\, 73050\, United States
END:VEVENT
BEGIN:VEVENT
DTSTART;VALUE=DATE:20250929
DTEND;VALUE=DATE:20250930
DTSTAMP:20260420T230040
CREATED:20250707T135208Z
LAST-MODIFIED:20250707T135208Z
UID:10000871-1759104000-1759190399@langston.edu
SUMMARY:2nd 8-Week Session Begins
DESCRIPTION:The 2nd 8-week session of the 2025 Fall Semester begins September 29\, 2025.
URL:https://langston.edu/event/2nd-8-week-session-begins/
LOCATION:Campus\, 701 Sammy Davis Jr Dr\, Langston\, OK\, 73050\, United States
END:VEVENT
BEGIN:VEVENT
DTSTART;TZID=America/Chicago:20250924T190000
DTEND;TZID=America/Chicago:20250924T203000
DTSTAMP:20260420T230040
CREATED:20250921T001426Z
LAST-MODIFIED:20250921T001426Z
UID:10001215-1758740400-1758745800@langston.edu
SUMMARY:LUAC Release Ceremony
DESCRIPTION:LUAC Release Ceremony hosted by LU Artist Coalition is Sep. 24\, 2025\, at 7:00 pm on the Tennis Courts. \nThe event is supported by the Office of Student Life.
URL:https://langston.edu/event/luac-release-ceremony/
LOCATION:Campus\, 701 Sammy Davis Jr Dr\, Langston\, OK\, 73050\, United States
END:VEVENT
BEGIN:VEVENT
DTSTART;TZID=America/Chicago:20250924T120000
DTEND;TZID=America/Chicago:20250924T140000
DTSTAMP:20260420T230040
CREATED:20250920T235921Z
LAST-MODIFIED:20250920T235921Z
UID:10001210-1758715200-1758722400@langston.edu
SUMMARY:Splash a GENT
DESCRIPTION:Splash a GENT hosted by G.E.N.T.S. is Sep. 24\, 2025\, from 12:00 to 2:00 pm. \nThis event is supported by the Office of Student Life. \n 
URL:https://langston.edu/event/splash-a-gent/
LOCATION:Campus\, 701 Sammy Davis Jr Dr\, Langston\, OK\, 73050\, United States
END:VEVENT
BEGIN:VEVENT
DTSTART;TZID=America/Chicago:20250921T160000
DTEND;TZID=America/Chicago:20250921T180000
DTSTAMP:20260420T230040
CREATED:20250916T195447Z
LAST-MODIFIED:20250916T195447Z
UID:10001189-1758470400-1758477600@langston.edu
SUMMARY:Qar Wash
DESCRIPTION:Qar Wash with the Phi Psi Bruhz hosted by Omega Psi Phi Fraternity\, Inc. Phi Psi Chapter\, is Sep. 21\, 2025\, from 4 to 6 pm at Tennis Courts Lot. \nThe event is supported by the Office of Student Life.
URL:https://langston.edu/event/qar-wash/
LOCATION:Campus\, 701 Sammy Davis Jr Dr\, Langston\, OK\, 73050\, United States
END:VEVENT
BEGIN:VEVENT
DTSTART;TZID=America/Chicago:20250921T100000
DTEND;TZID=America/Chicago:20250921T120000
DTSTAMP:20260420T230040
CREATED:20250916T194617Z
LAST-MODIFIED:20250920T141609Z
UID:10001187-1758448800-1758456000@langston.edu
SUMMARY:Scholars Inn Community Clean Up
DESCRIPTION:Scholars Inn Community Clean Up hosted by Phi Beta Sigma Fraternity\, inc.\, Beta Epsilon Chapter is Sep. 21\, 2025\, at 10 am. \nThe event is supported by the Office of Student Life.
URL:https://langston.edu/event/scholars-inn-community-cleanup/
LOCATION:Campus\, 701 Sammy Davis Jr Dr\, Langston\, OK\, 73050\, United States
END:VEVENT
BEGIN:VEVENT
DTSTART;TZID=America/Chicago:20250920T120000
DTEND;TZID=America/Chicago:20250920T140000
DTSTAMP:20260420T230040
CREATED:20250907T181543Z
LAST-MODIFIED:20250916T195215Z
UID:10001166-1758369600-1758376800@langston.edu
SUMMARY:Picnic on the Lawn
DESCRIPTION:Picnic on the Lawn hosted by National Council of Negro Women is Sep. 20\, 2025\, from 12:00 to 2:00 pm on Scholars Inn Lawn. \nThe event is supported by the Office of Student Life.
URL:https://langston.edu/event/picnic-on-the-lawn/
LOCATION:Campus\, 701 Sammy Davis Jr Dr\, Langston\, OK\, 73050\, United States
END:VEVENT
BEGIN:VEVENT
DTSTART;TZID=America/Chicago:20250920T103000
DTEND;TZID=America/Chicago:20250920T123000
DTSTAMP:20260420T230040
CREATED:20250920T141411Z
LAST-MODIFIED:20250920T141411Z
UID:10001198-1758364200-1758371400@langston.edu
SUMMARY:Campus Clean Up
DESCRIPTION:Campus Clean-Up hosted by NCNW is Sep. 20\, 2025 starting at 10:30 am. \nThis event is supported by the Office of Student Life.
URL:https://langston.edu/event/campus-clean-up-4/
LOCATION:Campus\, 701 Sammy Davis Jr Dr\, Langston\, OK\, 73050\, United States
END:VEVENT
BEGIN:VEVENT
DTSTART;TZID=America/Chicago:20250920T103000
DTEND;TZID=America/Chicago:20250920T123000
DTSTAMP:20260420T230040
CREATED:20250916T194901Z
LAST-MODIFIED:20250916T194901Z
UID:10001188-1758364200-1758371400@langston.edu
SUMMARY:Campus Clean-Up
DESCRIPTION:Campus Clean-Up hosted by NCNW is Sep. 20\, 2025\, at 10:30 am. The event is supported by the Office of Student Life. \n 
URL:https://langston.edu/event/campus-clean-up-3/
LOCATION:Campus\, 701 Sammy Davis Jr Dr\, Langston\, OK\, 73050\, United States
END:VEVENT
BEGIN:VEVENT
DTSTART;TZID=America/Chicago:20250919T190000
DTEND;TZID=America/Chicago:20250919T200000
DTSTAMP:20260420T230040
CREATED:20250916T194330Z
LAST-MODIFIED:20250916T194330Z
UID:10001186-1758308400-1758312000@langston.edu
SUMMARY:Block Party
DESCRIPTION:Block Party hosted by Alpha Phi Alpha Fraternity\, Inc.\, Beta Kappa Chapter\, is Sept 19\, 2025\, at 7 pm at Scholars Inn Basketball Courts. \nThe event is supported by the Office of Student Life.
URL:https://langston.edu/event/block-party/
LOCATION:Campus\, 701 Sammy Davis Jr Dr\, Langston\, OK\, 73050\, United States
END:VEVENT
BEGIN:VEVENT
DTSTART;TZID=America/Chicago:20250919T140000
DTEND;TZID=America/Chicago:20250919T170000
DTSTAMP:20260420T230040
CREATED:20250916T193721Z
LAST-MODIFIED:20250916T193721Z
UID:10001185-1758290400-1758301200@langston.edu
SUMMARY:Poodle Car Wash
DESCRIPTION:Poodle Car Wash is Sep. 19\, 2025\, from 2 to 5 pm. The event is supported by the Office of Student Life.
URL:https://langston.edu/event/poodle-car-wash/
LOCATION:Campus\, 701 Sammy Davis Jr Dr\, Langston\, OK\, 73050\, United States
END:VEVENT
BEGIN:VEVENT
DTSTART;TZID=America/Chicago:20250918T210000
DTEND;TZID=America/Chicago:20250918T220000
DTSTAMP:20260420T230040
CREATED:20250916T193309Z
LAST-MODIFIED:20250916T193309Z
UID:10001183-1758229200-1758232800@langston.edu
SUMMARY:NPHC Block Party
DESCRIPTION:NPHC Block party hosted by the National Pan-Hellenic Council (NPHC) is Sep. 18\, 2025\, at 9 pm on the Page Plaza. \nThe event is supported by the Office of Student Life.
URL:https://langston.edu/event/nphc-block-party/
LOCATION:Campus\, 701 Sammy Davis Jr Dr\, Langston\, OK\, 73050\, United States
END:VEVENT
BEGIN:VEVENT
DTSTART;TZID=America/Chicago:20250917T173000
DTEND;TZID=America/Chicago:20250917T193000
DTSTAMP:20260420T230040
CREATED:20250916T192815Z
LAST-MODIFIED:20250916T192815Z
UID:10001181-1758130200-1758137400@langston.edu
SUMMARY:SNAPing Into Benefits
DESCRIPTION:SNAPing into Benefits: Food Stamp Workshop hosted by Delta Sigma Theta Sorority\, Inc.\, Beta Upsilon Chapter\, is Sep. 17\, 2025\, from 5:30 to 7:30 pm.  \nThis event is supported by the Office of Student Life.
URL:https://langston.edu/event/snaping-into-benefits/
LOCATION:Campus\, 701 Sammy Davis Jr Dr\, Langston\, OK\, 73050\, United States
END:VEVENT
BEGIN:VEVENT
DTSTART;TZID=America/Chicago:20250917T110000
DTEND;TZID=America/Chicago:20250917T140000
DTSTAMP:20260420T230040
CREATED:20250916T183202Z
LAST-MODIFIED:20250916T183202Z
UID:10001177-1758106800-1758117600@langston.edu
SUMMARY:Splash Pie/Psi
DESCRIPTION:Splash/Pie Psi hosted by Kappa Kappa Psi National Honorary Band Fraternity\, Delta Alpha Chapter is Sep. 17\, 2025\, from 11 am to 2 pm on the SSC Plaza. \nThis event is supported by the Office of Student Life.
URL:https://langston.edu/event/splash-pie-psi/
LOCATION:Campus\, 701 Sammy Davis Jr Dr\, Langston\, OK\, 73050\, United States
END:VEVENT
BEGIN:VEVENT
DTSTART;VALUE=DATE:20250917
DTEND;VALUE=DATE:20250918
DTSTAMP:20260420T230040
CREATED:20250916T183507Z
LAST-MODIFIED:20250916T183507Z
UID:10001178-1758067200-1758153599@langston.edu
SUMMARY:Pearls of Sustainability
DESCRIPTION:Pearls of Sustainability hosted by Alpha Kappa Alpha Sorority\, Inc.\, Alpha Zeta Chapter is Sep. 17\, 2025\, (ongoing) in Sanford Hall. \nThe event is supported by the Office of Student Life.
URL:https://langston.edu/event/pearls-of-sustainability-2/
LOCATION:Campus\, 701 Sammy Davis Jr Dr\, Langston\, OK\, 73050\, United States
END:VEVENT
BEGIN:VEVENT
DTSTART;TZID=America/Chicago:20250915T150000
DTEND;TZID=America/Chicago:20250915T160000
DTSTAMP:20260420T230040
CREATED:20250916T173229Z
LAST-MODIFIED:20250916T173229Z
UID:10001171-1757948400-1757952000@langston.edu
SUMMARY:General Body Meeting
DESCRIPTION:General Body Meeting hosted by Three Women One Vision is Sep. 15\, 2025\, at 3 pm via Zoom. \nThis event is supported by the Office of Student Life.
URL:https://langston.edu/event/general-body-meeting-5/
LOCATION:Campus\, 701 Sammy Davis Jr Dr\, Langston\, OK\, 73050\, United States
END:VEVENT
BEGIN:VEVENT
DTSTART;TZID=America/Chicago:20250913T111300
DTEND;TZID=America/Chicago:20250913T130000
DTSTAMP:20260420T230040
CREATED:20250916T172757Z
LAST-MODIFIED:20250916T172757Z
UID:10001169-1757761980-1757768400@langston.edu
SUMMARY:BunchofMiles Run Klub
DESCRIPTION:BunchofMiles Run Klub hosted by Kappa Alpha Psi is Sep. 13\, 2025\, at 11:13 am on the Paw Walk. \nThis event is supported by the Office of Student Life.
URL:https://langston.edu/event/bunchofmiles-run-klub/
LOCATION:Campus\, 701 Sammy Davis Jr Dr\, Langston\, OK\, 73050\, United States
END:VEVENT
BEGIN:VEVENT
DTSTART;TZID=America/Chicago:20250912T110000
DTEND;TZID=America/Chicago:20250912T140000
DTSTAMP:20260420T230040
CREATED:20250907T181111Z
LAST-MODIFIED:20250907T181111Z
UID:10001164-1757674800-1757685600@langston.edu
SUMMARY:Splash-A-Diamond
DESCRIPTION:Splash-A-Diamond hosted by Women of Purpose is Sep. 12\, 2025\, from 11:00 am to 2:00 pm on the SSC Plaza. \nThe event is supported by the Office of Student Life. \n 
URL:https://langston.edu/event/splash-a-diamond/
LOCATION:Campus\, 701 Sammy Davis Jr Dr\, Langston\, OK\, 73050\, United States
END:VEVENT
BEGIN:VEVENT
DTSTART;TZID=America/Chicago:20250910T110000
DTEND;TZID=America/Chicago:20250910T140000
DTSTAMP:20260420T230040
CREATED:20250907T175426Z
LAST-MODIFIED:20250907T175426Z
UID:10001158-1757502000-1757512800@langston.edu
SUMMARY:ICEE's with ICE
DESCRIPTION:ICEE’S with ICE hosted by Alpha Phi Alpha Fraternity\, Inc.\, Beta Kappa Chapter is Sep. 10\, 2025\, from 11:00 am to 2:00 pm on the SSC Paw Walk. \nThe event is supported by the Office of Student Life. \n 
URL:https://langston.edu/event/icees-with-ice/
LOCATION:Campus\, 701 Sammy Davis Jr Dr\, Langston\, OK\, 73050\, United States
END:VEVENT
BEGIN:VEVENT
DTSTART;TZID=America/Chicago:20250909T100000
DTEND;TZID=America/Chicago:20250909T180000
DTSTAMP:20260420T230040
CREATED:20250907T223102Z
LAST-MODIFIED:20250907T223217Z
UID:10001167-1757412000-1757440800@langston.edu
SUMMARY:Tri-Campus Blood Drive
DESCRIPTION:Langston University will host an American Red Cross Tri-Campus Blood Drive on Tuesday\, September 9\, 2025. The Blood Drive is open to the public. \nSchedule Your Appointment \nClick Here to schedule your Sep. 9\, 2025\, American Red Cross Blood Drive appointment. \nStudents who donate have the opportunity to win a $500 Scholarship at each LU Campus. \nLearn more and sign up for your appointment! \n\nAmerican Red Cross Blood Drive at LU-Tulsa from 12:00 to 6:00 pm in the Lobby \n\nAmerican Red Cross Blood Drive at LU-OKC from 12:00 to 5:00 pm\nAmerican Red Cross Blood Drive at Langston Campus from 10:00 am to 4:00 pm in the Student Success Center Private Dining Room
URL:https://langston.edu/event/tri-campus-blood-drive/
LOCATION:Campus\, 701 Sammy Davis Jr Dr\, Langston\, OK\, 73050\, United States
END:VEVENT
BEGIN:VEVENT
DTSTART;TZID=America/Chicago:20250906T210000
DTEND;TZID=America/Chicago:20250907T000000
DTSTAMP:20260420T230040
CREATED:20250907T172641Z
LAST-MODIFIED:20250907T172641Z
UID:10001148-1757192400-1757203200@langston.edu
SUMMARY:Game Day After Party
DESCRIPTION:Game Day After Party hosted by Dj Rico is Sep. 6\, 2025\, from 9:00 pm to Midnight on Paw Walk. \nThe event is supported by the Office of Student Life.
URL:https://langston.edu/event/game-day-after-party/
LOCATION:Campus\, 701 Sammy Davis Jr Dr\, Langston\, OK\, 73050\, United States
END:VEVENT
BEGIN:VEVENT
DTSTART;TZID=America/Chicago:20250906T100000
DTEND;TZID=America/Chicago:20250906T120000
DTSTAMP:20260420T230040
CREATED:20250907T171400Z
LAST-MODIFIED:20250907T171400Z
UID:10001146-1757152800-1757160000@langston.edu
SUMMARY:Centennial Clean Up
DESCRIPTION:Centennial Clean Up hosted by Phi Beta Sigma Fraternity\, Inc\, Beta Epsilon Chapter is Sep. 6\, 2025\, from 10:00 am to 12:00 pm at Centennial Court. \nThis event is supported by the Office of Student Life. \n 
URL:https://langston.edu/event/centennial-cleanup/
LOCATION:Campus\, 701 Sammy Davis Jr Dr\, Langston\, OK\, 73050\, United States
END:VEVENT
BEGIN:VEVENT
DTSTART;TZID=America/Chicago:20250903T120000
DTEND;TZID=America/Chicago:20250903T140000
DTSTAMP:20260420T230040
CREATED:20250830T194330Z
LAST-MODIFIED:20250830T194330Z
UID:10000935-1756900800-1756908000@langston.edu
SUMMARY:Alphas On The Yard
DESCRIPTION:Alphas on the Yard is hosted by Beta Kappa Chapter of Alpha Phi Alpha on September 3\, 2025\, from 12:00 to 2:00 pm on the SSC Plaza. \nThis event is supported by the Office of Student Life.
URL:https://langston.edu/event/alphas-on-the-yard-3/
LOCATION:Campus\, 701 Sammy Davis Jr Dr\, Langston\, OK\, 73050\, United States
END:VEVENT
BEGIN:VEVENT
DTSTART;VALUE=DATE:20250901
DTEND;VALUE=DATE:20250902
DTSTAMP:20260420T230040
CREATED:20250707T134948Z
LAST-MODIFIED:20250707T134948Z
UID:10000870-1756684800-1756771199@langston.edu
SUMMARY:Labor Day Holiday
DESCRIPTION:Labor Day is Monday\, September 1\, 2025. No classes. The University will be closed in recognition of the holiday.
URL:https://langston.edu/event/labor-day-2/
LOCATION:Campus\, 701 Sammy Davis Jr Dr\, Langston\, OK\, 73050\, United States
END:VEVENT
BEGIN:VEVENT
DTSTART;VALUE=DATE:20250901
DTEND;VALUE=DATE:20250902
DTSTAMP:20260420T230040
CREATED:20250707T134757Z
LAST-MODIFIED:20250707T134757Z
UID:10000869-1756684800-1756771199@langston.edu
SUMMARY:Last Day to Apply for Fall 2025 Graduation
DESCRIPTION:September 1\, 2025\, is the last day to apply for Fall 2025 graduation.
URL:https://langston.edu/event/last-day-to-apply-for-fall-2025-graduation/
LOCATION:Campus\, 701 Sammy Davis Jr Dr\, Langston\, OK\, 73050\, United States
END:VEVENT
BEGIN:VEVENT
DTSTART;TZID=America/Chicago:20250830T100000
DTEND;TZID=America/Chicago:20250830T120000
DTSTAMP:20260420T230040
CREATED:20250830T193437Z
LAST-MODIFIED:20250830T193437Z
UID:10000932-1756548000-1756555200@langston.edu
SUMMARY:Campus Clean Up
DESCRIPTION:Campus Clean Up is hosted by Beta Kappa Chapter of Alpha Phi Alpha on August 30\, 2025\, from 10:00 am to 12:00 pm. \nThe event is supported by the Office of Student Life. 
URL:https://langston.edu/event/campus-clean-up-2/
LOCATION:Campus\, 701 Sammy Davis Jr Dr\, Langston\, OK\, 73050\, United States
END:VEVENT
BEGIN:VEVENT
DTSTART;VALUE=DATE:20250830
DTEND;VALUE=DATE:20250902
DTSTAMP:20260420T230040
CREATED:20250830T193216Z
LAST-MODIFIED:20250830T193216Z
UID:10000931-1756512000-1756771199@langston.edu
SUMMARY:Fan Bus Experience - Labor Day
DESCRIPTION:Fan Bus Experience: Labor Day Weekend for LU students is Aug. 30 through September 1\, 2025. SOLD OUT. \nThe event is supported by the Office of Student Life.
URL:https://langston.edu/event/fan-bus-experience-labor-day/
LOCATION:Campus\, 701 Sammy Davis Jr Dr\, Langston\, OK\, 73050\, United States
END:VEVENT
BEGIN:VEVENT
DTSTART;TZID=America/Chicago:20250827T173000
DTEND;TZID=America/Chicago:20250827T183000
DTSTAMP:20260420T230040
CREATED:20250825T184516Z
LAST-MODIFIED:20250825T184516Z
UID:10000923-1756315800-1756319400@langston.edu
SUMMARY:NPHC GBM
DESCRIPTION:Virtual National Pan-Hellenic Council (NPHC) General Body Meeting (GBM) hosted by LU NPHC on Aug. 27\, 2025\, at 5:30 pm. \nThis event is supported by the Office of Student Life.
URL:https://langston.edu/event/nhpc-gbm/
LOCATION:Campus\, 701 Sammy Davis Jr Dr\, Langston\, OK\, 73050\, United States
END:VEVENT
BEGIN:VEVENT
DTSTART;TZID=America/Chicago:20250827T113000
DTEND;TZID=America/Chicago:20250827T123000
DTSTAMP:20260420T230040
CREATED:20250825T184017Z
LAST-MODIFIED:20250825T184017Z
UID:10000922-1756294200-1756297800@langston.edu
SUMMARY:Flow at the BCM
DESCRIPTION:Flow at the BCM hosted by the Beta Upsilon Chapter of Delta Sigma Theta on Aug 27\, 2025\, at 11:30 am at Baptist Collegiate Ministry (BCM) at Sammy Davis Jr. Drive at Lincoln. \nThis event is supported by the Office of Student Life.
URL:https://langston.edu/event/flow-at-the-bcm/
LOCATION:Campus\, 701 Sammy Davis Jr Dr\, Langston\, OK\, 73050\, United States
END:VEVENT
BEGIN:VEVENT
DTSTART;TZID=America/Chicago:20250827T110000
DTEND;TZID=America/Chicago:20250827T140000
DTSTAMP:20260420T230040
CREATED:20250825T182935Z
LAST-MODIFIED:20250825T182935Z
UID:10000920-1756292400-1756303200@langston.edu
SUMMARY:Drown a Lion Fundraiser
DESCRIPTION:Drown a Lion Fundraiser hosted by Ferocious Lions  on Aug. 27\, 2025\, from 11:00 am to 2:00 pm on the SSC Plaza. \nThe event is supported by the Office of Student Life.
URL:https://langston.edu/event/drown-a-lion-fundraiser/
LOCATION:Campus\, 701 Sammy Davis Jr Dr\, Langston\, OK\, 73050\, United States
END:VEVENT
END:VCALENDAR