BEGIN:VCALENDAR
VERSION:2.0
PRODID:-//Langston University - ECPv6.5.2//NONSGML v1.0//EN
CALSCALE:GREGORIAN
METHOD:PUBLISH
X-WR-CALNAME:Langston University
X-ORIGINAL-URL:https://langston.edu
X-WR-CALDESC:Events for Langston University
REFRESH-INTERVAL;VALUE=DURATION:PT1H
X-Robots-Tag:noindex
X-PUBLISHED-TTL:PT1H
BEGIN:VTIMEZONE
TZID:America/Chicago
BEGIN:DAYLIGHT
TZOFFSETFROM:-0600
TZOFFSETTO:-0500
TZNAME:CDT
DTSTART:20250309T080000
END:DAYLIGHT
BEGIN:STANDARD
TZOFFSETFROM:-0500
TZOFFSETTO:-0600
TZNAME:CST
DTSTART:20251102T070000
END:STANDARD
END:VTIMEZONE
BEGIN:VEVENT
DTSTART;TZID=America/Chicago:20251105T100000
DTEND;TZID=America/Chicago:20251105T120000
DTSTAMP:20260420T200003
CREATED:20251105T143111Z
LAST-MODIFIED:20251105T143111Z
UID:10001327-1762336800-1762344000@langston.edu
SUMMARY:Share the Warmth
DESCRIPTION:Share the Warmth is November 5\, 2025\, at 10:00 am in Scholars’ Inn Clubhouse Lobby. The event is hosted by Residential Life and Housing Services Resident Assistants. \nThe event is supported by the Office of Student Life.
URL:https://langston.edu/event/share-the-warmth/
LOCATION:Campus\, 701 Sammy Davis Jr Dr\, Langston\, OK\, 73050\, United States
END:VEVENT
BEGIN:VEVENT
DTSTART;TZID=America/Chicago:20251104T173000
DTEND;TZID=America/Chicago:20251104T190000
DTSTAMP:20260420T200003
CREATED:20251105T142858Z
LAST-MODIFIED:20251105T142858Z
UID:10001326-1762277400-1762282800@langston.edu
SUMMARY:Study Time
DESCRIPTION:Study Time with NCNW and Gents is November 4\, 2025\, at 5:30 pm. The event is hosted by the National Council of Negro Women – Langston University. \nThe event is supported by the Office of Student Life.
URL:https://langston.edu/event/study-time/
LOCATION:Campus\, 701 Sammy Davis Jr Dr\, Langston\, OK\, 73050\, United States
END:VEVENT
BEGIN:VEVENT
DTSTART;TZID=America/Chicago:20251103T180000
DTEND;TZID=America/Chicago:20251103T193000
DTSTAMP:20260420T200003
CREATED:20251104T224003Z
LAST-MODIFIED:20251104T224003Z
UID:10001319-1762192800-1762198200@langston.edu
SUMMARY:Bites & Games
DESCRIPTION:Bites & Games is November 3\, 2025\, at 6:00 pm in Scholars Inn Clubhouse. The event is hosted by Residential Life and Housing Services. \nThe event is supported by the Office of Student Life.
URL:https://langston.edu/event/bites-games/
LOCATION:Campus\, 701 Sammy Davis Jr Dr\, Langston\, OK\, 73050\, United States
END:VEVENT
BEGIN:VEVENT
DTSTART;TZID=America/Chicago:20251102T181100
DTEND;TZID=America/Chicago:20251102T193000
DTSTAMP:20260420T200003
CREATED:20251104T223747Z
LAST-MODIFIED:20251104T223747Z
UID:10001318-1762107060-1762111800@langston.edu
SUMMARY:Motivated Miles
DESCRIPTION:Motivated Miles is November 2\, 2025\, at 6:11 pm. The event is hosted by Kappa Alpha Psi Fraternity\, Inc.\, Alpha Pi Chapter\, and Residential Life and Housing Services (RLHS). \nThe event is supported by the Office of Student Life.
URL:https://langston.edu/event/motivated-miles/
LOCATION:Campus\, 701 Sammy Davis Jr Dr\, Langston\, OK\, 73050\, United States
END:VEVENT
BEGIN:VEVENT
DTSTART;TZID=America/Chicago:20251102T181100
DTEND;TZID=America/Chicago:20251102T193000
DTSTAMP:20260420T200003
CREATED:20251104T223503Z
LAST-MODIFIED:20251104T223503Z
UID:10001317-1762107060-1762111800@langston.edu
SUMMARY:Run Klub
DESCRIPTION:Run Klub (Collaboration) is November 2\, 2025\, at 6:11 pm in the Commons overflow parking lot. The event is hosted by Kappa Alpha Psi Fraternity\, Inc.\, Alpha Pi Chapter\, and Residential Life and Housing Services (RLH). \nThe event is supported by the Office of Student Life.
URL:https://langston.edu/event/run-klub/
LOCATION:Campus\, 701 Sammy Davis Jr Dr\, Langston\, OK\, 73050\, United States
END:VEVENT
BEGIN:VEVENT
DTSTART;TZID=America/Chicago:20251031T183000
DTEND;TZID=America/Chicago:20251031T203000
DTSTAMP:20260420T200003
CREATED:20251028T172731Z
LAST-MODIFIED:20251028T172731Z
UID:10001301-1761935400-1761942600@langston.edu
SUMMARY:Queen's Court Trunk or Treat
DESCRIPTION:Queen’s Court Trunk or Treat is October 31\, 2025\, at 6:30 pm on the Tennis Court Parking Lot. The event is hosted by Queen’s Court and supported by the Office of Student Life.
URL:https://langston.edu/event/queens-court-trunk-or-treat/
LOCATION:Campus\, 701 Sammy Davis Jr Dr\, Langston\, OK\, 73050\, United States
END:VEVENT
BEGIN:VEVENT
DTSTART;TZID=America/Chicago:20251031T090000
DTEND;TZID=America/Chicago:20251031T140000
DTSTAMP:20260420T200003
CREATED:20251009T160451Z
LAST-MODIFIED:20251009T160451Z
UID:10001259-1761901200-1761919200@langston.edu
SUMMARY:High School Day 2025
DESCRIPTION:Langston University High School Day is Friday\, Oct. 31\, 2025. \nAttendees are encouraged to wear their Halloween costume! \nCheck-in begins at 9 am \nProgram begins at 10 am \nClick here to register! Deadline to register is October 24\, 2025.
URL:https://langston.edu/event/high-school-day-2025/
LOCATION:Campus\, 701 Sammy Davis Jr Dr\, Langston\, OK\, 73050\, United States
END:VEVENT
BEGIN:VEVENT
DTSTART;TZID=America/Chicago:20251029T193000
DTEND;TZID=America/Chicago:20251029T210000
DTSTAMP:20260420T200003
CREATED:20251028T171727Z
LAST-MODIFIED:20251028T171727Z
UID:10001297-1761766200-1761771600@langston.edu
SUMMARY:NCNW Bonding Event
DESCRIPTION:NCNW Bonding Event is October 29\, 2025\, at 7:30 pm. The event is hosted by National Council of Negro Women – Langston University. The event is supported by the Office of Student Life.
URL:https://langston.edu/event/ncnw-bonding-event/
LOCATION:Campus\, 701 Sammy Davis Jr Dr\, Langston\, OK\, 73050\, United States
END:VEVENT
BEGIN:VEVENT
DTSTART;TZID=America/Chicago:20251029T193000
DTEND;TZID=America/Chicago:20251029T210000
DTSTAMP:20260420T200003
CREATED:20251028T171456Z
LAST-MODIFIED:20251028T171456Z
UID:10001296-1761766200-1761771600@langston.edu
SUMMARY:Fright Night: Under the Stars
DESCRIPTION:Fright Night: Under the Stars is October 29\, 2025\, at 7:30 pm. The event is hosted by Women of Purpose and supported by the Office of Student Life.
URL:https://langston.edu/event/fright-night/
LOCATION:Campus\, 701 Sammy Davis Jr Dr\, Langston\, OK\, 73050\, United States
END:VEVENT
BEGIN:VEVENT
DTSTART;TZID=America/Chicago:20251029T180000
DTEND;TZID=America/Chicago:20251029T220000
DTSTAMP:20260420T200003
CREATED:20251004T210617Z
LAST-MODIFIED:20251004T210617Z
UID:10001254-1761760800-1761775200@langston.edu
SUMMARY:The League
DESCRIPTION:The League is 6:00 to10:00 pm on Mondays and Wednesdays during October 2025. \nThese events are supported by the Office of Student Life.
URL:https://langston.edu/event/the-league-2/2025-10-29/
LOCATION:Campus\, 701 Sammy Davis Jr Dr\, Langston\, OK\, 73050\, United States
END:VEVENT
BEGIN:VEVENT
DTSTART;TZID=America/Chicago:20251029T120000
DTEND;TZID=America/Chicago:20251029T133000
DTSTAMP:20260420T200003
CREATED:20251028T170347Z
LAST-MODIFIED:20251028T170347Z
UID:10001291-1761739200-1761744600@langston.edu
SUMMARY:Lemonade & Scriptures
DESCRIPTION:Lemonade & Scriptures is October 29\, 2025\, at 12:00 pm on the Paw Walk. The event is hosted by The Church (LU) and supported by the Office of Student Life.
URL:https://langston.edu/event/lemonade-scriptures/
LOCATION:Campus\, 701 Sammy Davis Jr Dr\, Langston\, OK\, 73050\, United States
END:VEVENT
BEGIN:VEVENT
DTSTART;TZID=America/Chicago:20251027T120000
DTEND;TZID=America/Chicago:20251027T140000
DTSTAMP:20260420T200003
CREATED:20251027T201535Z
LAST-MODIFIED:20251027T201535Z
UID:10001282-1761566400-1761573600@langston.edu
SUMMARY:Qar Wash with the Ques
DESCRIPTION:Qar Wash with the Ques\, hosted by Omega Psi Phi Fraternity\, Inc.\, Phi Psi Chapter\, is on Oct. 27\, 2025\, at 12:00 pm on the Tennis Courts Parking Lot. \nThis event is supported by the Office of Student Life.
URL:https://langston.edu/event/qar-wash-with-the-ques/
LOCATION:Campus\, 701 Sammy Davis Jr Dr\, Langston\, OK\, 73050\, United States
END:VEVENT
BEGIN:VEVENT
DTSTART;VALUE=DATE:20251013
DTEND;VALUE=DATE:20251123
DTSTAMP:20260420T200003
CREATED:20250707T135828Z
LAST-MODIFIED:20250707T135915Z
UID:10000873-1760313600-1763855999@langston.edu
SUMMARY:Pre-Enrollment for Spring 2026
DESCRIPTION:Pre-Enrollment for Spring 2026 is October 13 – November 22. \nLangston University Students must have a zero balance to enroll for course(s) and a FAFSA submitted to the University.
URL:https://langston.edu/event/pre-enrollment-for-spring-2026/
LOCATION:Campus\, 701 Sammy Davis Jr Dr\, Langston\, OK\, 73050\, United States
END:VEVENT
BEGIN:VEVENT
DTSTART;VALUE=DATE:20251013
DTEND;VALUE=DATE:20251014
DTSTAMP:20260420T200003
CREATED:20250707T135421Z
LAST-MODIFIED:20250707T135421Z
UID:10000872-1760313600-1760399999@langston.edu
SUMMARY:Fall Break
DESCRIPTION:Fall Break at Langston University is Monday\, October 13\, 2025. No Classes. Most offices will be closed.
URL:https://langston.edu/event/fall-break-2/
LOCATION:Campus\, 701 Sammy Davis Jr Dr\, Langston\, OK\, 73050\, United States
END:VEVENT
BEGIN:VEVENT
DTSTART;TZID=America/Chicago:20251012T100000
DTEND;TZID=America/Chicago:20251012T120000
DTSTAMP:20260420T200003
CREATED:20251004T205742Z
LAST-MODIFIED:20251004T205742Z
UID:10001247-1760263200-1760270400@langston.edu
SUMMARY:Campus Clean Up
DESCRIPTION:Campus Clean Up With The Queens is hosted by Queen’s Court on Oct 12\, 2025\, at 10:00 am on the SSC Paw Walk. The event is supported by the Office of Student Life.
URL:https://langston.edu/event/campus-clean-up-5/
LOCATION:Campus\, 701 Sammy Davis Jr Dr\, Langston\, OK\, 73050\, United States
END:VEVENT
BEGIN:VEVENT
DTSTART;VALUE=DATE:20251012
DTEND;VALUE=DATE:20251013
DTSTAMP:20260420T200003
CREATED:20250919T183020Z
LAST-MODIFIED:20251002T220950Z
UID:10001197-1760227200-1760313599@langston.edu
SUMMARY:Homecoming Schedule 2025
DESCRIPTION:Langston University Homecoming is October 5 – 12\, 2025. \nView the LU 2025 Homecoming Schedule
URL:https://langston.edu/event/homecoming-schedule-2025/2025-10-12/
LOCATION:Campus\, 701 Sammy Davis Jr Dr\, Langston\, OK\, 73050\, United States
END:VEVENT
BEGIN:VEVENT
DTSTART;TZID=America/Chicago:20251004T180000
DTEND;TZID=America/Chicago:20251004T200000
DTSTAMP:20260420T200003
CREATED:20250927T210242Z
LAST-MODIFIED:20251004T204914Z
UID:10001243-1759600800-1759608000@langston.edu
SUMMARY:SAB Street Team Pimp My Ride Cookout
DESCRIPTION:SAB Street Team Pimp My Ride Cookout is Oct. 4\, 2025\, at 6:00 pm in the C.F. Gayles Parking Lot. The event is hosted by the SAB Street Team and supported by the Office of Student Life.
URL:https://langston.edu/event/sab-street-team-pimp-my-ride-cookout/
LOCATION:Campus\, 701 Sammy Davis Jr Dr\, Langston\, OK\, 73050\, United States
END:VEVENT
BEGIN:VEVENT
DTSTART;TZID=America/Chicago:20251002T120000
DTEND;TZID=America/Chicago:20251002T140000
DTSTAMP:20260420T200003
CREATED:20250927T204612Z
LAST-MODIFIED:20250927T204612Z
UID:10001239-1759406400-1759413600@langston.edu
SUMMARY:A Rose from RLHS
DESCRIPTION:RLHS Presents: A Rose from RLHS is Oct. 2\, 2025\, at 12:00 pm in Young Hall Lobby Lounge. The event is hosted by RLHS Young – Resident Assistants\, and supported by the Office of Student Life.
URL:https://langston.edu/event/a-rose-from-rlhs/
LOCATION:Campus\, 701 Sammy Davis Jr Dr\, Langston\, OK\, 73050\, United States
END:VEVENT
BEGIN:VEVENT
DTSTART;TZID=America/Chicago:20251001T190000
DTEND;TZID=America/Chicago:20251001T210000
DTSTAMP:20260420T200003
CREATED:20250927T203659Z
LAST-MODIFIED:20250927T203659Z
UID:10001236-1759345200-1759352400@langston.edu
SUMMARY:SAB Street Team Wild'n Out At Night
DESCRIPTION:SAB Street team Wild’n out at night\, hosted by the SAB Street Team\, is Oct. 1\, 2025\, at 7:00 pm. The event is supported by the Office of Student Life.
URL:https://langston.edu/event/sab-street-team-wildn-out/
LOCATION:Campus\, 701 Sammy Davis Jr Dr\, Langston\, OK\, 73050\, United States
END:VEVENT
BEGIN:VEVENT
DTSTART;TZID=America/Chicago:20251001T110800
DTEND;TZID=America/Chicago:20251001T130000
DTSTAMP:20260420T200003
CREATED:20250927T204309Z
LAST-MODIFIED:20250927T204309Z
UID:10001238-1759316880-1759323600@langston.edu
SUMMARY:Splash and Slime an AKA
DESCRIPTION:Splash and Slime an AKA is Oct. 1\, 2025\, at 11:08 am on the Paw Walk. The event is hosted by Alpha Kappa Alpha Sorority Inc.\, Alpha Zeta Chapter – Greek Life and supported by the Office of Student Life.
URL:https://langston.edu/event/splash-slime-an-aka/
LOCATION:Campus\, 701 Sammy Davis Jr Dr\, Langston\, OK\, 73050\, United States
END:VEVENT
BEGIN:VEVENT
DTSTART;TZID=America/Chicago:20251001T110000
DTEND;TZID=America/Chicago:20251001T130000
DTSTAMP:20260420T200003
CREATED:20250927T203952Z
LAST-MODIFIED:20250927T203952Z
UID:10001237-1759316400-1759323600@langston.edu
SUMMARY:SAB Street Team Wild Out Wednesday
DESCRIPTION:SAB Street team Wild Out Wednesday\, hosted by the SAB Street Team is Oct. 1\, 2025\, at 11:00 am. The event is supported by the Office of Student Life.
URL:https://langston.edu/event/sab-street-team-wild-out-wednesday/
LOCATION:Campus\, 701 Sammy Davis Jr Dr\, Langston\, OK\, 73050\, United States
END:VEVENT
BEGIN:VEVENT
DTSTART;TZID=America/Chicago:20250930T180000
DTEND;TZID=America/Chicago:20250930T210000
DTSTAMP:20260420T200003
CREATED:20250830T200529Z
LAST-MODIFIED:20250930T133354Z
UID:10001135-1759255200-1759266000@langston.edu
SUMMARY:Cornhole and Pickleball
DESCRIPTION:Cornhole and Pickleball are offered during the semester on Tuesdays and Thursdays starting September 2 and 4\, 2025\, from 6 to 9:00 pm. Location to be announced. \nThe recurring semester event is supported by the Office of Student Life.
URL:https://langston.edu/event/cornhole-and-pickleball/2025-09-30/
LOCATION:Campus\, 701 Sammy Davis Jr Dr\, Langston\, OK\, 73050\, United States
END:VEVENT
BEGIN:VEVENT
DTSTART;TZID=America/Chicago:20250929T190000
DTEND;TZID=America/Chicago:20250929T210000
DTSTAMP:20260420T200003
CREATED:20250927T202043Z
LAST-MODIFIED:20250927T202123Z
UID:10001230-1759172400-1759179600@langston.edu
SUMMARY:SAB Street Team TRL Mixer
DESCRIPTION:SAB Street team TRL mixer\, hosted by the SAB Street Team\, is Sep. 29\, 2025\, at 7:00 pm. \nThe event is supported by the Office of Student Life.
URL:https://langston.edu/event/sab-street-team/
LOCATION:Campus\, 701 Sammy Davis Jr Dr\, Langston\, OK\, 73050\, United States
END:VEVENT
BEGIN:VEVENT
DTSTART;TZID=America/Chicago:20250929T180000
DTEND;TZID=America/Chicago:20250929T210000
DTSTAMP:20260420T200003
CREATED:20250830T201102Z
LAST-MODIFIED:20250930T133458Z
UID:10000954-1759168800-1759179600@langston.edu
SUMMARY:Night Rides
DESCRIPTION:Night Rides are offered Mondays\, Wednesdays\, and Fridays from 6:00 to 9:00 pm starting Wednesday\, September 3\, 2025. \nThese events are supported by the Office of Student Life.
URL:https://langston.edu/event/night-rides-2/2025-09-29/
LOCATION:Campus\, 701 Sammy Davis Jr Dr\, Langston\, OK\, 73050\, United States
END:VEVENT
BEGIN:VEVENT
DTSTART;TZID=America/Chicago:20250929T110000
DTEND;TZID=America/Chicago:20250929T130000
DTSTAMP:20260420T200003
CREATED:20250927T202348Z
LAST-MODIFIED:20250927T202348Z
UID:10001231-1759143600-1759150800@langston.edu
SUMMARY:SAB Street Team Room Raiders
DESCRIPTION:SAB Street team room raiders\, hosted by the SAB Street Team\, is Sep. 29\, 2025\, at 11:00 am. The event is supported by the Office of Student Life.
URL:https://langston.edu/event/sab-street-team-room-raiders/
LOCATION:Campus\, 701 Sammy Davis Jr Dr\, Langston\, OK\, 73050\, United States
END:VEVENT
BEGIN:VEVENT
DTSTART;VALUE=DATE:20250929
DTEND;VALUE=DATE:20250930
DTSTAMP:20260420T200003
CREATED:20250707T135208Z
LAST-MODIFIED:20250707T135208Z
UID:10000871-1759104000-1759190399@langston.edu
SUMMARY:2nd 8-Week Session Begins
DESCRIPTION:The 2nd 8-week session of the 2025 Fall Semester begins September 29\, 2025.
URL:https://langston.edu/event/2nd-8-week-session-begins/
LOCATION:Campus\, 701 Sammy Davis Jr Dr\, Langston\, OK\, 73050\, United States
END:VEVENT
BEGIN:VEVENT
DTSTART;TZID=America/Chicago:20250924T190000
DTEND;TZID=America/Chicago:20250924T203000
DTSTAMP:20260420T200003
CREATED:20250921T001426Z
LAST-MODIFIED:20250921T001426Z
UID:10001215-1758740400-1758745800@langston.edu
SUMMARY:LUAC Release Ceremony
DESCRIPTION:LUAC Release Ceremony hosted by LU Artist Coalition is Sep. 24\, 2025\, at 7:00 pm on the Tennis Courts. \nThe event is supported by the Office of Student Life.
URL:https://langston.edu/event/luac-release-ceremony/
LOCATION:Campus\, 701 Sammy Davis Jr Dr\, Langston\, OK\, 73050\, United States
END:VEVENT
BEGIN:VEVENT
DTSTART;TZID=America/Chicago:20250924T120000
DTEND;TZID=America/Chicago:20250924T140000
DTSTAMP:20260420T200003
CREATED:20250920T235921Z
LAST-MODIFIED:20250920T235921Z
UID:10001210-1758715200-1758722400@langston.edu
SUMMARY:Splash a GENT
DESCRIPTION:Splash a GENT hosted by G.E.N.T.S. is Sep. 24\, 2025\, from 12:00 to 2:00 pm. \nThis event is supported by the Office of Student Life. \n 
URL:https://langston.edu/event/splash-a-gent/
LOCATION:Campus\, 701 Sammy Davis Jr Dr\, Langston\, OK\, 73050\, United States
END:VEVENT
BEGIN:VEVENT
DTSTART;TZID=America/Chicago:20250921T160000
DTEND;TZID=America/Chicago:20250921T180000
DTSTAMP:20260420T200003
CREATED:20250916T195447Z
LAST-MODIFIED:20250916T195447Z
UID:10001189-1758470400-1758477600@langston.edu
SUMMARY:Qar Wash
DESCRIPTION:Qar Wash with the Phi Psi Bruhz hosted by Omega Psi Phi Fraternity\, Inc. Phi Psi Chapter\, is Sep. 21\, 2025\, from 4 to 6 pm at Tennis Courts Lot. \nThe event is supported by the Office of Student Life.
URL:https://langston.edu/event/qar-wash/
LOCATION:Campus\, 701 Sammy Davis Jr Dr\, Langston\, OK\, 73050\, United States
END:VEVENT
BEGIN:VEVENT
DTSTART;TZID=America/Chicago:20250921T100000
DTEND;TZID=America/Chicago:20250921T120000
DTSTAMP:20260420T200003
CREATED:20250916T194617Z
LAST-MODIFIED:20250920T141609Z
UID:10001187-1758448800-1758456000@langston.edu
SUMMARY:Scholars Inn Community Clean Up
DESCRIPTION:Scholars Inn Community Clean Up hosted by Phi Beta Sigma Fraternity\, inc.\, Beta Epsilon Chapter is Sep. 21\, 2025\, at 10 am. \nThe event is supported by the Office of Student Life.
URL:https://langston.edu/event/scholars-inn-community-cleanup/
LOCATION:Campus\, 701 Sammy Davis Jr Dr\, Langston\, OK\, 73050\, United States
END:VEVENT
END:VCALENDAR