BEGIN:VCALENDAR
VERSION:2.0
PRODID:-//Langston University - ECPv6.5.2//NONSGML v1.0//EN
CALSCALE:GREGORIAN
METHOD:PUBLISH
X-ORIGINAL-URL:https://langston.edu
X-WR-CALDESC:Events for Langston University
REFRESH-INTERVAL;VALUE=DURATION:PT1H
X-Robots-Tag:noindex
X-PUBLISHED-TTL:PT1H
BEGIN:VTIMEZONE
TZID:America/Chicago
BEGIN:DAYLIGHT
TZOFFSETFROM:-0600
TZOFFSETTO:-0500
TZNAME:CDT
DTSTART:20240310T080000
END:DAYLIGHT
BEGIN:STANDARD
TZOFFSETFROM:-0500
TZOFFSETTO:-0600
TZNAME:CST
DTSTART:20241103T070000
END:STANDARD
END:VTIMEZONE
BEGIN:VEVENT
DTSTART;TZID=America/Chicago:20241009T113000
DTEND;TZID=America/Chicago:20241009T190000
DTSTAMP:20260421T172649
CREATED:20241007T153855Z
LAST-MODIFIED:20241007T153855Z
UID:10000472-1728473400-1728500400@langston.edu
SUMMARY:Fried Chicken Wednesday
DESCRIPTION:Alpha Phi Alpha\, Beta Kappa Chapter hosts Fried Chicken Wednesday with the Alphas on October 9\, 2024. Time and location TBD.\n\nThis event is supported by the Office of Student Life
URL:https://langston.edu/event/fried-chicken-wednesday/
LOCATION:Campus\, 701 Sammy Davis Jr Dr\, Langston\, OK\, 73050\, United States
END:VEVENT
BEGIN:VEVENT
DTSTART;TZID=America/Chicago:20241009T110000
DTEND;TZID=America/Chicago:20241009T140000
DTSTAMP:20260421T172649
CREATED:20241007T143512Z
LAST-MODIFIED:20241007T143512Z
UID:10000468-1728471600-1728482400@langston.edu
SUMMARY:Ducks on the Yard
DESCRIPTION:Delta Sigma Theta\, Beta Upsilon Chapter hosts Ducks on the Yard on October 9\, 2024\, from 11:00 am – 2:00 pm on Sanford Lawn.\n\nThis event is supported by the Office of Student Life
URL:https://langston.edu/event/ducks-on-the-yard/
LOCATION:Campus\, 701 Sammy Davis Jr Dr\, Langston\, OK\, 73050\, United States
END:VEVENT
BEGIN:VEVENT
DTSTART;TZID=America/Chicago:20241008T190000
DTEND;TZID=America/Chicago:20241008T200000
DTSTAMP:20260421T172649
CREATED:20241006T013454Z
LAST-MODIFIED:20241006T013454Z
UID:10000467-1728414000-1728417600@langston.edu
SUMMARY:Town Hall with Your Senators
DESCRIPTION:Town Hall with Your Senators is hosted by SGA on October 8\, 2024\, at 7:00 pm. Location to be announced.\n\nThe Office of Student Life supports this event.
URL:https://langston.edu/event/town-hall-with-your-senators/
LOCATION:Campus\, 701 Sammy Davis Jr Dr\, Langston\, OK\, 73050\, United States
END:VEVENT
BEGIN:VEVENT
DTSTART;TZID=America/Chicago:20241005T210000
DTEND;TZID=America/Chicago:20241006T000000
DTSTAMP:20260421T172649
CREATED:20240927T220659Z
LAST-MODIFIED:20240927T220727Z
UID:10000458-1728162000-1728172800@langston.edu
SUMMARY:Football Game Afterparty
DESCRIPTION:NPHC hosts a Football Game Afterparty on October 5\, 2024\, from 9:00 pm to 12:00 am in the Multi.\n\nThis event is supported by the LU Office of Student Life.
URL:https://langston.edu/event/football-game-afterparty/
LOCATION:Campus\, 701 Sammy Davis Jr Dr\, Langston\, OK\, 73050\, United States
END:VEVENT
BEGIN:VEVENT
DTSTART;TZID=America/Chicago:20240930T180000
DTEND;TZID=America/Chicago:20240930T210000
DTSTAMP:20260421T172649
CREATED:20240927T212726Z
LAST-MODIFIED:20240927T212726Z
UID:10000448-1727719200-1727730000@langston.edu
SUMMARY:Night Rides Around Campus
DESCRIPTION:The Office of Student Life is hosting Night Rides on September 30\, 2024\, from 6 to 9:00 pm around campus.
URL:https://langston.edu/event/night-rides-around-campus/
LOCATION:Campus\, 701 Sammy Davis Jr Dr\, Langston\, OK\, 73050\, United States
END:VEVENT
BEGIN:VEVENT
DTSTART;TZID=America/Chicago:20240930T180000
DTEND;TZID=America/Chicago:20240930T193000
DTSTAMP:20260421T172649
CREATED:20240930T153338Z
LAST-MODIFIED:20240930T153430Z
UID:10000460-1727719200-1727724600@langston.edu
SUMMARY:Girl Chat
DESCRIPTION:The LU Office of Student Life hosts Girl Chat on September 30\, 2024 at 6:00 pm in the Scholars Clubhouse.
URL:https://langston.edu/event/girl-chat/
LOCATION:Campus\, 701 Sammy Davis Jr Dr\, Langston\, OK\, 73050\, United States
END:VEVENT
BEGIN:VEVENT
DTSTART;TZID=America/Chicago:20240927T180000
DTEND;TZID=America/Chicago:20240927T210000
DTSTAMP:20260421T172649
CREATED:20240920T224855Z
LAST-MODIFIED:20240920T224855Z
UID:10000437-1727460000-1727470800@langston.edu
SUMMARY:Night Rides in September
DESCRIPTION:LU students are invited to the Office of Student Life (OSL) Night Rides on September 23\, 25\, and 27\, 2024\, from 6:00 – 9:00 pm. Night Rides will occur around campus.
URL:https://langston.edu/event/night-rides-in-september/2024-09-27/
LOCATION:Campus\, 701 Sammy Davis Jr Dr\, Langston\, OK\, 73050\, United States
END:VEVENT
BEGIN:VEVENT
DTSTART;TZID=America/Chicago:20240926T200000
DTEND;TZID=America/Chicago:20240926T213000
DTSTAMP:20260421T172649
CREATED:20240922T223018Z
LAST-MODIFIED:20240922T223018Z
UID:10000445-1727380800-1727386200@langston.edu
SUMMARY:Showtime with the Sigmas
DESCRIPTION:LU’s Phi Beta Sigma Fraternity Inc.\, Beta Epsilon Chapter\, hosts Showtime with the Sigmas on September 26\, 2024\, at 8:00 pm in the Wesley Center.
URL:https://langston.edu/event/showtime-with-the-sigmas/
LOCATION:Campus\, 701 Sammy Davis Jr Dr\, Langston\, OK\, 73050\, United States
END:VEVENT
BEGIN:VEVENT
DTSTART;TZID=America/Chicago:20240925T110000
DTEND;TZID=America/Chicago:20240925T120000
DTSTAMP:20260421T172649
CREATED:20240922T221923Z
LAST-MODIFIED:20240922T221923Z
UID:10000442-1727262000-1727265600@langston.edu
SUMMARY:Alphas on the Yard
DESCRIPTION:Alpha Phi Alpha Fraternity\, Inc.’s Beta Kappa Chapter hosts Alphas on the Yard on September 25\, 2024\, at 11:00 am on the Yard.\n\nThis event is supported by the Office of Student Life.
URL:https://langston.edu/event/alphas-on-the-yard/
LOCATION:Campus\, 701 Sammy Davis Jr Dr\, Langston\, OK\, 73050\, United States
END:VEVENT
BEGIN:VEVENT
DTSTART;TZID=America/Chicago:20240924T080000
DTEND;TZID=America/Chicago:20240924T170000
DTSTAMP:20260421T172649
CREATED:20240920T230520Z
LAST-MODIFIED:20240920T230545Z
UID:10000441-1727164800-1727197200@langston.edu
SUMMARY:Informational Meeting
DESCRIPTION:LU students are invited to a September 24\, 2024\, Informational Meeting hosted by G.E.N.T.S.\n\nThis event is supported by the Office of Student Life.
URL:https://langston.edu/event/informational-meeting/
LOCATION:Campus\, 701 Sammy Davis Jr Dr\, Langston\, OK\, 73050\, United States
END:VEVENT
BEGIN:VEVENT
DTSTART;VALUE=DATE:20240924
DTEND;VALUE=DATE:20240925
DTSTAMP:20260421T172649
CREATED:20240920T225743Z
LAST-MODIFIED:20240920T225743Z
UID:10000439-1727136000-1727222399@langston.edu
SUMMARY:Pearls of Sustainability
DESCRIPTION:The Alpha Kappa Alpha Sorority Inc.\, Alpha Zeta Chapter is hosting Pearls of Sustainability September 24\, 2024\, all day in multiple locations.\n\nThis event is supported by the Office of Student Life.
URL:https://langston.edu/event/pearls-of-sustainability/
LOCATION:Campus\, 701 Sammy Davis Jr Dr\, Langston\, OK\, 73050\, United States
END:VEVENT
BEGIN:VEVENT
DTSTART;TZID=America/Chicago:20240923T180000
DTEND;TZID=America/Chicago:20240923T203000
DTSTAMP:20260421T172649
CREATED:20240920T225244Z
LAST-MODIFIED:20240920T225244Z
UID:10000438-1727114400-1727123400@langston.edu
SUMMARY:Bingo Night
DESCRIPTION:LU students can participate in Bingo Night on September 23\, 2024 at 6:00 pm in the Multi. The event is hosted by the National Council of Negro Women and is supported by the Office of Student Life.
URL:https://langston.edu/event/bingo-night/
LOCATION:Campus\, 701 Sammy Davis Jr Dr\, Langston\, OK\, 73050\, United States
END:VEVENT
BEGIN:VEVENT
DTSTART;TZID=America/Chicago:20240921T090000
DTEND;TZID=America/Chicago:20240921T170000
DTSTAMP:20260421T172649
CREATED:20240920T223242Z
LAST-MODIFIED:20240920T223435Z
UID:10000433-1726909200-1726938000@langston.edu
SUMMARY:Phi Beta Sigma & Zeta Phi Beta Statewide Meeting
DESCRIPTION:Phi Beta Sigma & Zeta Phi Beta will host a Statewide Meeting on September 21\, 2024\, from 9:00 am to 5:00 pm in various classrooms. \nThis event is offered the Office of Student Life.
URL:https://langston.edu/phi-beta-sigma-zeta-phi-beta-statewide-meeting/
LOCATION:Campus\, 701 Sammy Davis Jr Dr\, Langston\, OK\, 73050\, United States
END:VEVENT
BEGIN:VEVENT
DTSTART;TZID=America/Chicago:20240918T170000
DTEND;TZID=America/Chicago:20240918T200000
DTSTAMP:20260421T172649
CREATED:20240914T023040Z
LAST-MODIFIED:20240914T023040Z
UID:10000428-1726678800-1726689600@langston.edu
SUMMARY:Splash A Poodle
DESCRIPTION:Langston University students are invited to Splash a Poodle on September 18\, 2024\, from 5:00 – 8:00 pm on the Paw Walk. \nThis event is offered through the Office of Student Life.
URL:https://langston.edu/event/event-splash-a-poodle/
LOCATION:Campus\, 701 Sammy Davis Jr Dr\, Langston\, OK\, 73050\, United States
END:VEVENT
BEGIN:VEVENT
DTSTART;VALUE=DATE:20240902
DTEND;VALUE=DATE:20240903
DTSTAMP:20260421T172649
CREATED:20240820T143546Z
LAST-MODIFIED:20240820T143546Z
UID:10000039-1725235200-1725321599@langston.edu
SUMMARY:Labor Day
DESCRIPTION:There will be no classes and University offices will be closed in observance of the holiday.
URL:https://langston.edu/event/labor-day/
LOCATION:Campus\, 701 Sammy Davis Jr Dr\, Langston\, OK\, 73050\, United States
ATTACH;FMTTYPE=image/jpeg:https://langston.edu/wp-content/uploads/2024/01/Student-Success-Center-with-blue-sky.jpeg
END:VEVENT
BEGIN:VEVENT
DTSTART;TZID=America/Chicago:20240812T080000
DTEND;TZID=America/Chicago:20240819T190000
DTSTAMP:20260421T172649
CREATED:20240711T222012Z
LAST-MODIFIED:20240813T180040Z
UID:10000028-1723449600-1724094000@langston.edu
SUMMARY:Welcome Back Week
DESCRIPTION:Enjoy Welcome Week activities from August 12th to August 16th\, 2024. \nLook for more details to come.
URL:https://langston.edu/event/welcome-back-week/
LOCATION:Campus\, 701 Sammy Davis Jr Dr\, Langston\, OK\, 73050\, United States
CATEGORIES:Campus Events
ATTACH;FMTTYPE=image/png:https://langston.edu/wp-content/uploads/2024/02/Screenshot-2024-02-09-at-12.29.26 PM-e1707503425370.png
END:VEVENT
BEGIN:VEVENT
DTSTART;VALUE=DATE:20240805
DTEND;VALUE=DATE:20240806
DTSTAMP:20260421T172649
CREATED:20240607T190007Z
LAST-MODIFIED:20240607T190007Z
UID:10000025-1722816000-1722902399@langston.edu
SUMMARY:Fall Classes Start August 5th
DESCRIPTION:Apply or enroll now. \nhttps://langston.edu/apply-now/
URL:https://langston.edu/event/fall-classes-start-august-5th/
LOCATION:Campus\, 701 Sammy Davis Jr Dr\, Langston\, OK\, 73050\, United States
ATTACH;FMTTYPE=image/jpeg:https://langston.edu/wp-content/uploads/2024/01/53298334989_46016773af_k.jpeg
END:VEVENT
END:VCALENDAR