BEGIN:VCALENDAR
VERSION:2.0
PRODID:-//Langston University - ECPv6.5.2//NONSGML v1.0//EN
CALSCALE:GREGORIAN
METHOD:PUBLISH
X-WR-CALNAME:Langston University
X-ORIGINAL-URL:https://langston.edu
X-WR-CALDESC:Events for Langston University
REFRESH-INTERVAL;VALUE=DURATION:PT1H
X-Robots-Tag:noindex
X-PUBLISHED-TTL:PT1H
BEGIN:VTIMEZONE
TZID:America/Chicago
BEGIN:DAYLIGHT
TZOFFSETFROM:-0600
TZOFFSETTO:-0500
TZNAME:CDT
DTSTART:20250309T080000
END:DAYLIGHT
BEGIN:STANDARD
TZOFFSETFROM:-0500
TZOFFSETTO:-0600
TZNAME:CST
DTSTART:20251102T070000
END:STANDARD
END:VTIMEZONE
BEGIN:VEVENT
DTSTART;TZID=America/Chicago:20250407T110000
DTEND;TZID=America/Chicago:20250407T203000
DTSTAMP:20260421T084856
CREATED:20250408T195325Z
LAST-MODIFIED:20250408T195325Z
UID:10000780-1744023600-1744057800@langston.edu
SUMMARY:Health Initiatives and Grill & Chill
DESCRIPTION:Omega Week runs through April 11\, 2025. Omega Week is hosted by Omega Psi Phi Fraternity\, Inc.\, Phi Psi Chapter. \nOmega Week activities are supported by the Office of Student Life. \n\nApril 7\, 2025 at 11:00 am: Mental Health & Health Initiatives in the Student Success Center\nApril 7\, 2025 at 7:11 pm: Grill & Chill at The Bell\nApril 8\, 2025 at 11:00 am: Meet The Miss Omega Contestants in the Student Success Center\nApril 8\, 2025 at 8:00 pm: Resume Workshop in the Student Success Center Private Dining Room\nApril 9\, 2025 at 11:00 am: Splash A Que on the Student Success Center Plaza\nApril 9\, 2025 at 7:00 pm: Sip N Paint in the Student Success Center Private Dining Area\nApril 10\, 2025 at 12:30 pm: Dancing With The Golden Felines in the Multi\nApril 10\, 2025 at 7:00 pm: Omega Dodgeball in the Multi\nApril 11\, 2025 at 5:30 pm: Powderpuff Game at W.E Anderson Stadium\nApril 11\, 2025 at 9:00 pm: Crawfish Boil on the Tennis Courts
URL:https://langston.edu/event/event-health-initiatives-and-grill-chill/
LOCATION:Campus\, 701 Sammy Davis Jr Dr\, Langston\, OK\, 73050\, United States
END:VEVENT
BEGIN:VEVENT
DTSTART;TZID=America/Chicago:20250406T143000
DTEND;TZID=America/Chicago:20250406T220000
DTSTAMP:20260421T084856
CREATED:20250408T195049Z
LAST-MODIFIED:20250408T195049Z
UID:10000779-1743949800-1743976800@langston.edu
SUMMARY:Omega Week
DESCRIPTION:Omega Week is April 6 – 11\, 2025. Omega Week is hosted by Omega Psi Phi Fraternity\, Inc.\, Phi Psi Chapter. \nOmega Week activities are supported by the Office of Student Life. \n\nApril 6\, 2025 at 2:30 pm: Sunday Service in The Atrium\nApril 6\, 2025 at 9:00 pm: Trash Pick Up (campus wide)\nApril 7\, 2025 at 11:00 am: Mental Health & Health Initiatives in the Student Success Center\nApril 7\, 2025 at 7:11 pm: Grill & Chill at The Bell\nApril 8\, 2025 at 11:00 am: Meet The Miss Omega Contestants in the Student Success Center\nApril 8\, 2025 at 8:00 pm: Resume Workshop in the Student Success Center Private Dining Room\nApril 9\, 2025 at 11:00 am: Splash A Que on the Student Success Center Plaza\nApril 9\, 2025 at 7:00 pm: Sip N Paint in the Student Success Center Private Dining Area\nApril 10\, 2025 at 12:30 pm: Dancing With The Golden Felines in the Multi\nApril 10\, 2025 at 7:00 pm: Omega Dodgeball in the Multi\nApril 11\, 2025 at 5:30 pm: Powderpuff Game at W.E Anderson Stadium\nApril 11\, 2025 at 9:00 pm: Crawfish Boil on the Tennis Courts
URL:https://langston.edu/event/event-omega-week/
LOCATION:Campus\, 701 Sammy Davis Jr Dr\, Langston\, OK\, 73050\, United States
END:VEVENT
BEGIN:VEVENT
DTSTART;TZID=America/Chicago:20250402T190000
DTEND;TZID=America/Chicago:20250402T200000
DTSTAMP:20260421T084856
CREATED:20250329T031040Z
LAST-MODIFIED:20250329T031040Z
UID:10000752-1743620400-1743624000@langston.edu
SUMMARY:3x3 Tournament Registration Meeting
DESCRIPTION:3×3 Women’s Basketball Tournament Registration Meeting is hosted by the Office of Student Life and Residential Life and Housing Services on April 2\, 2025 at 7:00 pm in the Multi.
URL:https://langston.edu/event/3x3-tournament-registration/
LOCATION:Campus\, 701 Sammy Davis Jr Dr\, Langston\, OK\, 73050\, United States
END:VEVENT
BEGIN:VEVENT
DTSTART;TZID=America/Chicago:20250402T182200
DTEND;TZID=America/Chicago:20250402T193000
DTSTAMP:20260421T084856
CREATED:20250329T032231Z
LAST-MODIFIED:20250329T032231Z
UID:10000755-1743618120-1743622200@langston.edu
SUMMARY:Stars and S'mores
DESCRIPTION:SGRho Week is presented by Sigma Gamma Rho Sorority\, Inc.\, Iota Chapter. The week’s events are supported by the Office of Student Life.\n\nStars and S’mores on April 2\, 2025 at 6:22 pm by the Presidential Busts\nSplash the Poodles on April 4\, 2025\, at 11:00 am in the Student Success Center
URL:https://langston.edu/event/event-starts-and-smores/
LOCATION:Campus\, 701 Sammy Davis Jr Dr\, Langston\, OK\, 73050\, United States
END:VEVENT
BEGIN:VEVENT
DTSTART;VALUE=DATE:20250402
DTEND;VALUE=DATE:20250403
DTSTAMP:20260421T084856
CREATED:20250329T030749Z
LAST-MODIFIED:20250329T030749Z
UID:10000751-1743552000-1743638399@langston.edu
SUMMARY:SGA Election Ballots
DESCRIPTION:SGA Election Ballots Open on April 2\, 2025\, Virtual. \nThis event is supported by the Office of Student Life
URL:https://langston.edu/event/event-sga-election-ballots/
LOCATION:Campus\, 701 Sammy Davis Jr Dr\, Langston\, OK\, 73050\, United States
END:VEVENT
BEGIN:VEVENT
DTSTART;TZID=America/Chicago:20250331T170000
DTEND;TZID=America/Chicago:20250331T180000
DTSTAMP:20260421T084856
CREATED:20250329T030217Z
LAST-MODIFIED:20250329T030217Z
UID:10000749-1743440400-1743444000@langston.edu
SUMMARY:Glow Up Workshop
DESCRIPTION:Glow Up: Improve your graphic design and social media pages Workshop is hosted by the Office of Student Life (OSL) on March 31\, 2025\, at 5:00 pm via Zoom.
URL:https://langston.edu/event/event-glow-up-workshop-2/
LOCATION:Campus\, 701 Sammy Davis Jr Dr\, Langston\, OK\, 73050\, United States
END:VEVENT
BEGIN:VEVENT
DTSTART;TZID=America/Chicago:20250331T080000
DTEND;TZID=America/Chicago:20250331T170000
DTSTAMP:20260421T084856
CREATED:20241202T144625Z
LAST-MODIFIED:20241202T144625Z
UID:10000620-1743408000-1743440400@langston.edu
SUMMARY:Pre-Enrollment for Summer/Fall 2025 begins March 31
DESCRIPTION:Pre-Enrollment for Summer/Fall 2025 at Langston University begins March 31 and runs through May 9\, 2025.
URL:https://langston.edu/event/spring-enrollment-for-summer-fall-2025/
LOCATION:Campus\, 701 Sammy Davis Jr Dr\, Langston\, OK\, 73050\, United States
END:VEVENT
BEGIN:VEVENT
DTSTART;TZID=America/Chicago:20250329T110000
DTEND;TZID=America/Chicago:20250329T120000
DTSTAMP:20260421T084856
CREATED:20250329T025738Z
LAST-MODIFIED:20250329T025738Z
UID:10000747-1743246000-1743249600@langston.edu
SUMMARY:Queen's Service
DESCRIPTION:Queen’s Service is hosted by Queen’s Court in Centennial Court on March 29\, 2025 at 11:00 am. \nThis event is supported by the Office of Student Life.
URL:https://langston.edu/event/event-queens-service/
LOCATION:Campus\, 701 Sammy Davis Jr Dr\, Langston\, OK\, 73050\, United States
END:VEVENT
BEGIN:VEVENT
DTSTART;TZID=America/Chicago:20250328T180000
DTEND;TZID=America/Chicago:20250328T235900
DTSTAMP:20260421T084856
CREATED:20250329T025236Z
LAST-MODIFIED:20250329T025236Z
UID:10000745-1743184800-1743206340@langston.edu
SUMMARY:Greek Fest
DESCRIPTION:Greek Fest is hosted by the Langston University National Pan-Hellenic Council (LUNPHC) on March 28\, 2025\, from 6:00 pm to 12:00 Midnight on the Yard. \nThis event is supported by the Office of Student Life.
URL:https://langston.edu/event/event-greek-fest/
LOCATION:Campus\, 701 Sammy Davis Jr Dr\, Langston\, OK\, 73050\, United States
END:VEVENT
BEGIN:VEVENT
DTSTART;TZID=America/Chicago:20250328T180000
DTEND;TZID=America/Chicago:20250328T203000
DTSTAMP:20260421T084856
CREATED:20250329T024848Z
LAST-MODIFIED:20250329T024848Z
UID:10000744-1743184800-1743193800@langston.edu
SUMMARY:Miss NABCJ's Movie Night
DESCRIPTION:Miss NABCJ’s Movie Night is hosted by National Association of Blacks in Criminal Justice on March 28\, 2025\, at 6:00 pm in Young Hall Lounge. \nThis event is supported by the Office of Student Life.
URL:https://langston.edu/event/event-miss-nabcjs-movie-night/
LOCATION:Campus\, 701 Sammy Davis Jr Dr\, Langston\, OK\, 73050\, United States
END:VEVENT
BEGIN:VEVENT
DTSTART;VALUE=DATE:20250317
DTEND;VALUE=DATE:20250322
DTSTAMP:20260421T084856
CREATED:20240821T174329Z
LAST-MODIFIED:20241202T165158Z
UID:10000044-1742169600-1742601599@langston.edu
SUMMARY:Spring Break
DESCRIPTION:There will be no classes March 17-21 for Spring Break.
URL:https://langston.edu/event/spring-break/
LOCATION:Campus\, 701 Sammy Davis Jr Dr\, Langston\, OK\, 73050\, United States
ATTACH;FMTTYPE=image/jpeg:https://langston.edu/wp-content/uploads/2024/08/Flowering-Tree-near-Library.jpeg
END:VEVENT
BEGIN:VEVENT
DTSTART;TZID=America/Chicago:20250314T140000
DTEND;TZID=America/Chicago:20250314T170000
DTSTAMP:20260421T084856
CREATED:20241202T145132Z
LAST-MODIFIED:20250305T193521Z
UID:10000622-1741960800-1741971600@langston.edu
SUMMARY:Investiture
DESCRIPTION:The Investiture of Langston University’s 17th President\, Dr. Ruth Ray Jackson\, will be held on March 14\, 2025. \nUnveiling of the Presidential Bust will occur in the Centennial Plaza directly after the Investiture ceremony. \nRising With Community: Campuswide Reception is in the Student Success Center from 4:00 to 5:00 p.m. \nFor more information about Inauguration Week Activities\, click here.
URL:https://langston.edu/event/inauguration-day/
LOCATION:Campus\, 701 Sammy Davis Jr Dr\, Langston\, OK\, 73050\, United States
ATTACH;FMTTYPE=image/jpeg:https://langston.edu/wp-content/uploads/2024/09/President-Ruth-Ray-Jackson-at-commencement-scaled.jpeg
END:VEVENT
BEGIN:VEVENT
DTSTART;VALUE=DATE:20250314
DTEND;VALUE=DATE:20250315
DTSTAMP:20260421T084856
CREATED:20250310T135451Z
LAST-MODIFIED:20250310T140226Z
UID:10000739-1741910400-1741996799@langston.edu
SUMMARY:Orange & Blue Scholarship Photo Contest
DESCRIPTION:Orange and Blue Friday Scholarship Photo Contest hosted by LU Ambassadors is on March 14\, 2025. This is a virtual and all-day event. \nThis event is part of LU Ambassadors Founders’ Week and is supported by the Office of Student Life.
URL:https://langston.edu/event/event-orange-and-blue-scholarship-photo-contest/
LOCATION:Campus\, 701 Sammy Davis Jr Dr\, Langston\, OK\, 73050\, United States
END:VEVENT
BEGIN:VEVENT
DTSTART;TZID=America/Chicago:20250313T180000
DTEND;TZID=America/Chicago:20250313T200000
DTSTAMP:20260421T084856
CREATED:20250308T231515Z
LAST-MODIFIED:20250310T135718Z
UID:10000732-1741888800-1741896000@langston.edu
SUMMARY:Royal Tea Party
DESCRIPTION:Royal Tea Party is hosted by Queen’s Court on March 13\, 2025\, at 6:00 pm. Location TBD. \nThis event is supported by the Office of Student Life.
URL:https://langston.edu/event/event-royal-tea-party/
LOCATION:Campus\, 701 Sammy Davis Jr Dr\, Langston\, OK\, 73050\, United States
END:VEVENT
BEGIN:VEVENT
DTSTART;TZID=America/Chicago:20250313T110000
DTEND;TZID=America/Chicago:20250313T110000
DTSTAMP:20260421T084856
CREATED:20241202T144956Z
LAST-MODIFIED:20250123T153756Z
UID:10000621-1741863600-1741863600@langston.edu
SUMMARY:Founders' Day 2025
DESCRIPTION:The Founders’ Day Program will be celebrated on Thursday\, March 13\, 2025\, at 11 a.m. in the I.W. Young Auditorium. The theme for 2025 is “Rooted In Legacy\,” and the event is part of Inauguration Week for Dear Langston’s 17th President Ruth Ray Jackson. \nTo learn more about Inauguration\, visit https://langston.edu/inauguration/.
URL:https://langston.edu/founders-day-2025/
LOCATION:Campus\, 701 Sammy Davis Jr Dr\, Langston\, OK\, 73050\, United States
ATTACH;FMTTYPE=image/jpeg:https://langston.edu/wp-content/uploads/2024/07/53359932281_b4f462a3bf_c-1.jpg
END:VEVENT
BEGIN:VEVENT
DTSTART;TZID=America/Chicago:20250312T190000
DTEND;TZID=America/Chicago:20250312T200000
DTSTAMP:20260421T084856
CREATED:20250308T230948Z
LAST-MODIFIED:20250308T230948Z
UID:10000730-1741806000-1741809600@langston.edu
SUMMARY:Glow Up Workshop
DESCRIPTION:Glow Up: Improve Your Graphic Design and Social Media Pages Workshop is hosted by the Office of Student Life on March 12\, 2025\, at 7:00 pm via Zoom. \nJoin Zoom Meeting \nhttps://langston-edu.zoom.us/j/91256941609 \n 
URL:https://langston.edu/event/event-glow-up-workshop/
LOCATION:Campus\, 701 Sammy Davis Jr Dr\, Langston\, OK\, 73050\, United States
END:VEVENT
BEGIN:VEVENT
DTSTART;TZID=America/Chicago:20250312T100000
DTEND;TZID=America/Chicago:20250312T130000
DTSTAMP:20260421T084856
CREATED:20250310T134303Z
LAST-MODIFIED:20250310T140026Z
UID:10000736-1741773600-1741784400@langston.edu
SUMMARY:Service Without Reward i.e. Food Pantry Service Event
DESCRIPTION:Service without Reward i.e. Food Pantry Service Event is hosted by LU Ambassadors on March 12\, 2025 from 10:00 am to 1:00 pm. The Food Pantry is held in the Langston Retail Plaza\, the same location as Textbook Central and Tevin’s Home Cooking Restaurant in Suite G. \nThis event is part of LU Ambassadors Founders’ Week and is supported by the Office of Student Life.
URL:https://langston.edu/event/event-service-without-reward/
LOCATION:Campus\, 701 Sammy Davis Jr Dr\, Langston\, OK\, 73050\, United States
END:VEVENT
BEGIN:VEVENT
DTSTART;VALUE=DATE:20250311
DTEND;VALUE=DATE:20250312
DTSTAMP:20260421T084856
CREATED:20250310T133521Z
LAST-MODIFIED:20250310T135942Z
UID:10000735-1741651200-1741737599@langston.edu
SUMMARY:Business Tuesday Scholarship Photo Contest
DESCRIPTION:Business Tuesday Scholarship Photo Contest hosted by LU Ambassadors on March 11\, 2025. This is a virtual\, all-day event. \nThis event is part of LU Ambassadors Founders’ Week and is supported by the Office of Student Life.
URL:https://langston.edu/event/event-business-tuesday/
LOCATION:Campus\, 701 Sammy Davis Jr Dr\, Langston\, OK\, 73050\, United States
END:VEVENT
BEGIN:VEVENT
DTSTART;TZID=America/Chicago:20250306T110000
DTEND;TZID=America/Chicago:20250306T120000
DTSTAMP:20260421T084856
CREATED:20250305T150051Z
LAST-MODIFIED:20250305T150052Z
UID:10000707-1741258800-1741262400@langston.edu
SUMMARY:Women of Purpose Week
DESCRIPTION:Women of Purpose (WOP) Week is March 4 through March 6\, 2025. The Office of Student Life supports these events. \n\nField Day is Thursday\, March 6\, 2025\, at 11:00 am on Sanford Lawn
URL:https://langston.edu/event/event-women-of-purpose-week-2-2/
LOCATION:Campus\, 701 Sammy Davis Jr Dr\, Langston\, OK\, 73050\, United States
END:VEVENT
BEGIN:VEVENT
DTSTART;TZID=America/Chicago:20250305T180000
DTEND;TZID=America/Chicago:20250305T190000
DTSTAMP:20260421T084856
CREATED:20250305T151028Z
LAST-MODIFIED:20250305T151028Z
UID:10000709-1741197600-1741201200@langston.edu
SUMMARY:It's Giving Order
DESCRIPTION:It’s Giving Order: Parliamentary Procedures Explained is hosted by the Office of Student Life (OSL) on March 5\, 2025\, at 6:00 pm via Zoom \nJoin Zoom Meeting \nhttps://langston-edu.zoom.us/j/97755800353 \n 
URL:https://langston.edu/event/event-its-giving-order/
LOCATION:Campus\, 701 Sammy Davis Jr Dr\, Langston\, OK\, 73050\, United States
ATTACH;FMTTYPE=image/jpeg:https://langston.edu/wp-content/uploads/2025/03/IMG_2600.jpeg
END:VEVENT
BEGIN:VEVENT
DTSTART;TZID=America/Chicago:20250303T080000
DTEND;TZID=America/Chicago:20250307T170000
DTSTAMP:20260421T084856
CREATED:20250113T184037Z
LAST-MODIFIED:20250113T184037Z
UID:10000639-1740988800-1741366800@langston.edu
SUMMARY:Midterm Exams
DESCRIPTION:Midterm Exams for 16-week classes. Final Exams for 1st 8-week classes.
URL:https://langston.edu/event/midterm-exams/
LOCATION:Campus\, 701 Sammy Davis Jr Dr\, Langston\, OK\, 73050\, United States
ATTACH;FMTTYPE=image/png:https://langston.edu/wp-content/uploads/2023/02/Student-Affairs-Welcome.png
END:VEVENT
BEGIN:VEVENT
DTSTART;TZID=America/Chicago:20250227T180000
DTEND;TZID=America/Chicago:20250227T193000
DTSTAMP:20260421T084856
CREATED:20250224T153304Z
LAST-MODIFIED:20250224T153304Z
UID:10000686-1740679200-1740684600@langston.edu
SUMMARY:Bonfire Party
DESCRIPTION:Bonfire Party is hosted by Women of Purpose on February 27\, 2025\, at 6:00 pm at the Walk of Fame. \nThis event is supported by the Office of Student Life.
URL:https://langston.edu/event/event-bonfire-party/
LOCATION:Campus\, 701 Sammy Davis Jr Dr\, Langston\, OK\, 73050\, United States
END:VEVENT
BEGIN:VEVENT
DTSTART;TZID=America/Chicago:20250227T170000
DTEND;TZID=America/Chicago:20250227T180000
DTSTAMP:20260421T084856
CREATED:20250224T152028Z
LAST-MODIFIED:20250224T152028Z
UID:10000684-1740675600-1740679200@langston.edu
SUMMARY:BHM Block Party
DESCRIPTION:BHM Block Party is hosted by LU Athletics and the Office of Student Life on February 27\, 2025\, at 5:00 pm on the Paw Walk.
URL:https://langston.edu/event/event-bhm-block-party/
LOCATION:Campus\, 701 Sammy Davis Jr Dr\, Langston\, OK\, 73050\, United States
END:VEVENT
BEGIN:VEVENT
DTSTART;TZID=America/Chicago:20250227T150000
DTEND;TZID=America/Chicago:20250227T160000
DTSTAMP:20260421T084856
CREATED:20250227T190921Z
LAST-MODIFIED:20250227T191054Z
UID:10000691-1740668400-1740672000@langston.edu
SUMMARY:Your Voice Matters
DESCRIPTION:Your Voice Matters: Advocating For Brown & Black Families – an Oklahoma Legislators Panel Discussion is on Thursday\, February 27\, 2025 at 3:00 pm via Zoom. \nZoom Link: Click Here \nThe panel discussion is part of the Department of Family and Consumer Sciences 2025 ECE Seminar Series. \n 
URL:https://langston.edu/event/event-your-voice-matters/
LOCATION:Campus\, 701 Sammy Davis Jr Dr\, Langston\, OK\, 73050\, United States
END:VEVENT
BEGIN:VEVENT
DTSTART;TZID=America/Chicago:20250223T140000
DTEND;TZID=America/Chicago:20250223T163000
DTSTAMP:20260421T084856
CREATED:20250222T003456Z
LAST-MODIFIED:20250222T003534Z
UID:10000675-1740319200-1740328200@langston.edu
SUMMARY:Clean Up Day
DESCRIPTION:National Pan-Hellenic Council (NPHC) Campus Clean Up is on February 23\, 2025\, at 2:00 pm on the Langston campus. \nThis event is supported by the Office of Student Life.
URL:https://langston.edu/event/clean-up-day/
LOCATION:Campus\, 701 Sammy Davis Jr Dr\, Langston\, OK\, 73050\, United States
END:VEVENT
BEGIN:VEVENT
DTSTART;TZID=America/Chicago:20250207T184600
DTEND;TZID=America/Chicago:20250207T193000
DTSTAMP:20260421T084856
CREATED:20250203T145254Z
LAST-MODIFIED:20250203T145254Z
UID:10000664-1738953960-1738956600@langston.edu
SUMMARY:Mister and Miss LUMP Pageant Informational
DESCRIPTION:The Mister and Miss LUMP Pageant Informational is hosted by Tau Beta Sigma National Honorary Band Sorority Inc. on February 7\, 2025\, at 6:46 pm in Hargrove Music Hall. \nThis event is supported by the Office of Student Life.
URL:https://langston.edu/event/events-mister-and-miss-lump-pageant-informational/
LOCATION:Campus\, 701 Sammy Davis Jr Dr\, Langston\, OK\, 73050\, United States
END:VEVENT
BEGIN:VEVENT
DTSTART;VALUE=DATE:20250201
DTEND;VALUE=DATE:20250202
DTSTAMP:20260421T084856
CREATED:20241202T144026Z
LAST-MODIFIED:20241202T162742Z
UID:10000619-1738368000-1738454399@langston.edu
SUMMARY:Last Day to Apply for Summer 2025 Graduation
DESCRIPTION:The last day to apply for Langston University Summer Graduation is February 1\, 2025.
URL:https://langston.edu/event/last-day-to-apply-for/
LOCATION:Campus\, 701 Sammy Davis Jr Dr\, Langston\, OK\, 73050\, United States
ATTACH;FMTTYPE=image/jpeg:https://langston.edu/wp-content/uploads/2024/01/53472918614_50ef0cb0bf_k.jpeg
END:VEVENT
BEGIN:VEVENT
DTSTART;VALUE=DATE:20250120
DTEND;VALUE=DATE:20250121
DTSTAMP:20260421T084856
CREATED:20240821T174203Z
LAST-MODIFIED:20241202T142548Z
UID:10000043-1737331200-1737417599@langston.edu
SUMMARY:Dr. Martin Luther King\, Jr. Day Observed
DESCRIPTION:There will be no classes and University offices will be closed in observance of the holiday.
URL:https://langston.edu/dr-martin-luther-king-jr-day/
LOCATION:Campus\, 701 Sammy Davis Jr Dr\, Langston\, OK\, 73050\, United States
ATTACH;FMTTYPE=image/jpeg:https://langston.edu/wp-content/uploads/2024/07/53359932281_b4f462a3bf_c-1.jpg
END:VEVENT
BEGIN:VEVENT
DTSTART;VALUE=DATE:20250118
DTEND;VALUE=DATE:20250119
DTSTAMP:20260421T084856
CREATED:20250113T174154Z
LAST-MODIFIED:20250113T174154Z
UID:10000633-1737158400-1737244799@langston.edu
SUMMARY:Advisor Retreat
DESCRIPTION:The Office of Student Life is offering an Advisor Retreat on January 18\, 2025. Student Organization Advisors can RSVP with Ms. Teaa Hopkins\, Coordinator of Student Engagement and Leadership\, at teaa@langston.edu. \nTime and location TBA.
URL:https://langston.edu/event/advisor-retreat/
LOCATION:Campus\, 701 Sammy Davis Jr Dr\, Langston\, OK\, 73050\, United States
ATTACH;FMTTYPE=image/jpeg:https://langston.edu/wp-content/uploads/2025/01/Advisor-Retrat-cropped.jpeg
END:VEVENT
BEGIN:VEVENT
DTSTART;VALUE=DATE:20250117
DTEND;VALUE=DATE:20250118
DTSTAMP:20260421T084856
CREATED:20250113T183552Z
LAST-MODIFIED:20250113T183552Z
UID:10000638-1737072000-1737158399@langston.edu
SUMMARY:Spring Semester Enrollment Deadline
DESCRIPTION:Last day to enroll for all 16-week classes in the spring semester. \nTo enroll\, visit the Admissions & Aid website.
URL:https://langston.edu/event/spring-semester-enrollment-deadline/
LOCATION:Campus\, 701 Sammy Davis Jr Dr\, Langston\, OK\, 73050\, United States
ATTACH;FMTTYPE=image/jpeg:https://langston.edu/wp-content/uploads/2024/03/53297100472_d493239f48_k.jpg
END:VEVENT
END:VCALENDAR