BEGIN:VCALENDAR
VERSION:2.0
PRODID:-//Langston University - ECPv6.5.2//NONSGML v1.0//EN
CALSCALE:GREGORIAN
METHOD:PUBLISH
X-ORIGINAL-URL:https://langston.edu
X-WR-CALDESC:Events for Langston University
REFRESH-INTERVAL;VALUE=DURATION:PT1H
X-Robots-Tag:noindex
X-PUBLISHED-TTL:PT1H
BEGIN:VTIMEZONE
TZID:America/Chicago
BEGIN:DAYLIGHT
TZOFFSETFROM:-0600
TZOFFSETTO:-0500
TZNAME:CDT
DTSTART:20240310T080000
END:DAYLIGHT
BEGIN:STANDARD
TZOFFSETFROM:-0500
TZOFFSETTO:-0600
TZNAME:CST
DTSTART:20241103T070000
END:STANDARD
BEGIN:DAYLIGHT
TZOFFSETFROM:-0600
TZOFFSETTO:-0500
TZNAME:CDT
DTSTART:20250309T080000
END:DAYLIGHT
BEGIN:STANDARD
TZOFFSETFROM:-0500
TZOFFSETTO:-0600
TZNAME:CST
DTSTART:20251102T070000
END:STANDARD
BEGIN:DAYLIGHT
TZOFFSETFROM:-0600
TZOFFSETTO:-0500
TZNAME:CDT
DTSTART:20260308T080000
END:DAYLIGHT
BEGIN:STANDARD
TZOFFSETFROM:-0500
TZOFFSETTO:-0600
TZNAME:CST
DTSTART:20261101T070000
END:STANDARD
END:VTIMEZONE
BEGIN:VEVENT
DTSTART;TZID=America/Chicago:20260219T170000
DTEND;TZID=America/Chicago:20260219T183000
DTSTAMP:20260421T010655
CREATED:20260213T162151Z
LAST-MODIFIED:20260213T162210Z
UID:10001435-1771520400-1771525800@langston.edu
SUMMARY:Black History Month Symposium
DESCRIPTION:Black History Month Symposium – The Healing Power of Music is Thursday\, February 19\, 2026\, at 5:00 pm at the LU-Tulsa Campus. Enjoy music therapy with singer/musician Kevin Hamilton. \nThis non-verbal\, non-invasive music therapy experience is designed to support nervous system regulation\, stress regulation\, and embodied awareness through sound and rhythm. \nThe event is hosted by Langston University – Chi Sigma Iota\, Lambda Upsilon; The Power Hour with Dr. Phillip Lewis; and Grand Mental Health.
URL:https://langston.edu/event/black-history-month-symposium/
LOCATION:Tulsa Campus\, 914 N. Greenwood Ave.\, Tulsa\, OK\, 74106\, United States
END:VEVENT
BEGIN:VEVENT
DTSTART;TZID=America/Chicago:20250529T150000
DTEND;TZID=America/Chicago:20250529T180000
DTSTAMP:20260421T010655
CREATED:20250519T163649Z
LAST-MODIFIED:20250519T163649Z
UID:10000864-1748530800-1748541600@langston.edu
SUMMARY:Roaring Registration at LU-Tulsa
DESCRIPTION:Attend Langston University’s Roaring Registration Event on May 29\, 2025\, from 3 to 6 pm at LU-Tulsa\, 914 N. Greenwood Avenue. \nClick for Directions \n\nThursday\, May 29\, 2025 from 3 to 6 PM\n\n\nYOU CAN ALSO ATTEND THE ROARING REGISTRATION EVENT ON THE LANGSTON CAMPUS\n701 Sammy Davis Jr. Drive\, Langston\, OK 73050 \nClick for Directions \n\nWednesday\, June 4\, 2025 from 3 to 6 pm\n\nDuring LU’s Roaring Registration Events\n\nApply for Admission*\nReceive Your Admission Decision\nPay Your Enrollment Fee**\nEnroll in Fall Semester\nComplete or Get Assistance Correcting Your FAFSA (Free Application for Federal Student Aid)\nLearn About Scholarship Opportunities\nRegister for Campus Housing\n\nRSVP Now – Click Here\nFor questions\, call 405-466-3428 or email luadmissions@langston.edu \n*To apply for admission\, please bring high school and/or college transcripts (preferably sealed); must have 2.4 Unweighted GPA to be admitted into Langston University. \n** For First Time Freshmen and Transfers who will be enrolled at the Langston Campus
URL:https://langston.edu/event/roaring-registration-at-lu-tulsa/
LOCATION:Tulsa Campus\, 914 N. Greenwood Ave.\, Tulsa\, OK\, 74106\, United States
END:VEVENT
BEGIN:VEVENT
DTSTART;VALUE=DATE:20250508
DTEND;VALUE=DATE:20250509
DTSTAMP:20260421T010655
CREATED:20241202T154021Z
LAST-MODIFIED:20241202T175727Z
UID:10000628-1746662400-1746748799@langston.edu
SUMMARY:LU-Tulsa Graduate Recognition & Celebration
DESCRIPTION:LU-Tulsa Graduate Recognition & Celebration will be held at the LU-Tulsa Campus on May 8\, 2025.
URL:https://langston.edu/event/2025-lu-tulsa-graduate-recognition-celebration/
LOCATION:Tulsa Campus\, 914 N. Greenwood Ave.\, Tulsa\, OK\, 74106\, United States
ATTACH;FMTTYPE=image/jpeg:https://langston.edu/wp-content/uploads/2024/01/LU-Tulsa-exterior-1.jpeg
END:VEVENT
BEGIN:VEVENT
DTSTART;TZID=America/Chicago:20250426T110000
DTEND;TZID=America/Chicago:20250426T140000
DTSTAMP:20260421T010655
CREATED:20250423T223025Z
LAST-MODIFIED:20250423T223025Z
UID:10000836-1745665200-1745676000@langston.edu
SUMMARY:Resource and Recruitment Fair
DESCRIPTION:The School of Nursing and Health Professions will host the Langston University Tulsa Resource and Recruitment Fair at the LU-Tulsa Campus on Saturday\, April 26\, 2025\, from 11 a.m. to 2 p.m. This Resource and Recruitment Fair aims to: \n\nProvide health information to the community.\nConnect community members to health-promoting resources and services.\nProvide information about the Public Health and Healthcare Administration programs at the LU-Tulsa campus to those interested.\nPromote health and health awareness in our communities.\n\nSeveral community organizations and vendors will be present at the Fair. The event will include family-friendly activities such as fitness demos\, line dancing and healthy food sampling.
URL:https://langston.edu/event/resource-and-recruitment-fair/
LOCATION:Tulsa Campus\, 914 N. Greenwood Ave.\, Tulsa\, OK\, 74106\, United States
END:VEVENT
BEGIN:VEVENT
DTSTART;VALUE=DATE:20250410
DTEND;VALUE=DATE:20250411
DTSTAMP:20260421T010655
CREATED:20241202T150214Z
LAST-MODIFIED:20241202T165353Z
UID:10000624-1744243200-1744329599@langston.edu
SUMMARY:LU-Tulsa Annual Honors Day Recognition
DESCRIPTION:The LU-Tulsa Annual Honors Day Recognition will be held on the LU-Tulsa Campus on April 10\, 2025.
URL:https://langston.edu/event/lu-tulsa-annual-honors-day-recognition/
LOCATION:Tulsa Campus\, 914 N. Greenwood Ave.\, Tulsa\, OK\, 74106\, United States
ATTACH;FMTTYPE=image/jpeg:https://langston.edu/wp-content/uploads/2024/01/LU-Tulsa-exterior-1.jpeg
END:VEVENT
BEGIN:VEVENT
DTSTART;TZID=America/Chicago:20250327T130000
DTEND;TZID=America/Chicago:20250327T160000
DTSTAMP:20260421T010655
CREATED:20250324T183026Z
LAST-MODIFIED:20250324T183646Z
UID:10000740-1743080400-1743091200@langston.edu
SUMMARY:Home Ownership Symposium for Underserved Communities
DESCRIPTION:The public is invited to an “Access to Home Ownership Symposium for Underserved Communities” on Thursday\, March 27\, 2025\, from 1 to 4 p.m. at the Langston University Tulsa Campus\, 914 N. Greenwood Avenue inside the Jack Henderson Allied Health Building. This free symposium is presented by Green Country Habitat for Humanity\, GRAND Mental Health and Langston University. \nEquanimity and the American dream of home ownership have not always aligned. Attendees will learn more about access to the home buying experience\, the mental health benefits of home ownership\, and the relationship between home ownership and community wellbeing. This important discussion is open to all including students and community members alike. \n“This symposium is very important and relevant. Our goal is to provide community engagement\, education\, awareness and outreach to those communities that may hesitate to even seek the opportunity to purchase a home\,” says Phillip Lewis\, Ph.D.\, Associate Professor of Rehabilitation Studies at the LU-Tulsa Campus. \n“Access to stable\, permanent housing is directly tied to an individual’s emotional welfare\, sense of security\, ability to thrive in society\, and influence community wholeness\,” notes Jeff Harlin\, Chief Administrative Officer Tulsa\, GRAND Mental Health. “We are honored to partner with Langston University and Green Country Habitat for Humanity\, to assure students and community members alike understand the homeownership dream is possible.”
URL:https://langston.edu/event/event-home-ownership-symposium/
LOCATION:Tulsa Campus\, 914 N. Greenwood Ave.\, Tulsa\, OK\, 74106\, United States
END:VEVENT
BEGIN:VEVENT
DTSTART;TZID=America/Chicago:20250212T120000
DTEND;TZID=America/Chicago:20250212T180000
DTSTAMP:20260421T010655
CREATED:20250123T150152Z
LAST-MODIFIED:20250123T151015Z
UID:10000643-1739361600-1739383200@langston.edu
SUMMARY:Blood Drive at LU-Tulsa Campus
DESCRIPTION:The Langston University Tulsa Campus (LU-Tulsa) is hosting an American Red Cross Blood Drive on Wednesday\, February 12\, 2025\, from 12:00 to 6:00 pm at 914 N. Greenwood Avenue\, Tulsa\, OK 74106. \nSchedule your appointment today. Use the QR code or click here. \nSave lives in less time! Learn more at RedCrossBlood.org/RapidPass.
URL:https://langston.edu/blood-drive-at-lu-tulsa-campus/
LOCATION:Tulsa Campus\, 914 N. Greenwood Ave.\, Tulsa\, OK\, 74106\, United States
ATTACH;FMTTYPE=image/jpeg:https://langston.edu/wp-content/uploads/2025/01/American-Red-Cross-LU-Tulsa-poster-photo.jpeg
END:VEVENT
BEGIN:VEVENT
DTSTART;TZID=America/Chicago:20241101T090000
DTEND;TZID=America/Chicago:20241101T150000
DTSTAMP:20260421T010655
CREATED:20241002T135010Z
LAST-MODIFIED:20241002T135010Z
UID:10000461-1730451600-1730473200@langston.edu
SUMMARY:Tulsa Higher Education Consortium Fall 2024 Convening
DESCRIPTION:The Fall 2024 Tulsa Higher Education Consortium Convening will be held on November 1\, 2024\, from 9:00 am to 3:00 pm at the LU-Tulsa Campus\, 914 N. Greenwood Avenue. \nHighlights of the Fall 2024 Convening include: \n\nKeynote Address by Dr. Ebony Johnson\, Superintendent of Tulsa Public Schools\nBreakout Sessions\nCollaborative time focused on higher education and talent retention for students in our region\nRecognition of Collaborative Champion award winners\n\nRegister and Learn More
URL:https://langston.edu/event/tulsa-higher-education-consortium-fall-2024-convening/
LOCATION:Tulsa Campus\, 914 N. Greenwood Ave.\, Tulsa\, OK\, 74106\, United States
END:VEVENT
END:VCALENDAR