BEGIN:VCALENDAR
VERSION:2.0
PRODID:-//Langston University - ECPv6.5.2//NONSGML v1.0//EN
CALSCALE:GREGORIAN
METHOD:PUBLISH
X-ORIGINAL-URL:https://langston.edu
X-WR-CALDESC:Events for Langston University
REFRESH-INTERVAL;VALUE=DURATION:PT1H
X-Robots-Tag:noindex
X-PUBLISHED-TTL:PT1H
BEGIN:VTIMEZONE
TZID:America/Chicago
BEGIN:DAYLIGHT
TZOFFSETFROM:-0600
TZOFFSETTO:-0500
TZNAME:CDT
DTSTART:20250309T080000
END:DAYLIGHT
BEGIN:STANDARD
TZOFFSETFROM:-0500
TZOFFSETTO:-0600
TZNAME:CST
DTSTART:20251102T070000
END:STANDARD
BEGIN:DAYLIGHT
TZOFFSETFROM:-0600
TZOFFSETTO:-0500
TZNAME:CDT
DTSTART:20260308T080000
END:DAYLIGHT
BEGIN:STANDARD
TZOFFSETFROM:-0500
TZOFFSETTO:-0600
TZNAME:CST
DTSTART:20261101T070000
END:STANDARD
END:VTIMEZONE
BEGIN:VEVENT
DTSTART;TZID=America/Chicago:20260112T180000
DTEND;TZID=America/Chicago:20260112T190000
DTSTAMP:20260422T172829
CREATED:20260110T215639Z
LAST-MODIFIED:20260110T215639Z
UID:10001363-1768240800-1768244400@langston.edu
SUMMARY:RSO Meeting
DESCRIPTION:RSO Meeting is on January 12\, 2026\, at 6:00 pm in Allied Health\, Room 105. The meeting is hosted by the Office of Student Life.
URL:https://langston.edu/event/rso-meeting-2/
LOCATION:Allied Health Building\, 701 Sammy Davis Jr Drive\, Langston\, OK\, 73050\, United States
END:VEVENT
BEGIN:VEVENT
DTSTART;TZID=America/Chicago:20251103T190000
DTEND;TZID=America/Chicago:20251103T210000
DTSTAMP:20260422T172829
CREATED:20251104T212329Z
LAST-MODIFIED:20251104T212329Z
UID:10001303-1762196400-1762203600@langston.edu
SUMMARY:Greek Life 101
DESCRIPTION:Greek Life 101 is November 3\, 2025\, from 7:00 to 9:00 pm in Allied Health\, Room 105. \nThe event is supported by the Office of Student Life.
URL:https://langston.edu/event/greek-life-101/
LOCATION:Allied Health Building\, 701 Sammy Davis Jr Drive\, Langston\, OK\, 73050\, United States
END:VEVENT
BEGIN:VEVENT
DTSTART;TZID=America/Chicago:20250924T170000
DTEND;TZID=America/Chicago:20250924T180000
DTSTAMP:20260422T172829
CREATED:20250921T000625Z
LAST-MODIFIED:20250921T000625Z
UID:10001212-1758733200-1758736800@langston.edu
SUMMARY:Suicide Prevention Sip & Paint
DESCRIPTION:Suicide Prevention Sip & Paint hosted by the Healthcare Administration Club is Sep. 24\, 2025\, at 5:00 pm in Allied Health Room 100. \nThe event is supported by the Office of Student Life.
URL:https://langston.edu/event/suicide-prevention-sip-paint/
LOCATION:Allied Health Building\, 701 Sammy Davis Jr Drive\, Langston\, OK\, 73050\, United States
END:VEVENT
BEGIN:VEVENT
DTSTART;TZID=America/Chicago:20250811T190000
DTEND;TZID=America/Chicago:20250811T200000
DTSTAMP:20260422T172829
CREATED:20250811T180743Z
LAST-MODIFIED:20250811T180743Z
UID:10000878-1754938800-1754942400@langston.edu
SUMMARY:RSO Student Leader Meeting
DESCRIPTION:RSO (Registered Student Organization) Student Leader Meeting is hosted by OSL (Office of Student Life) on August 11\, 2025 at 7:00 pm in Allied Health Room 105.
URL:https://langston.edu/event/rso-student-meeting/
LOCATION:Allied Health Building\, 701 Sammy Davis Jr Drive\, Langston\, OK\, 73050\, United States
END:VEVENT
BEGIN:VEVENT
DTSTART;TZID=America/Chicago:20250811T170000
DTEND;TZID=America/Chicago:20250811T180000
DTSTAMP:20260422T172829
CREATED:20250811T180531Z
LAST-MODIFIED:20250811T180531Z
UID:10000877-1754931600-1754935200@langston.edu
SUMMARY:RSO Advisor Meeting
DESCRIPTION:RSO (Registered Student Organization) Advisor Meeting is hosted by OSL (Office of Student Life) on Monday\, Aug 11\, 2025\, at 5:00 pm in Allied Health Room 105.
URL:https://langston.edu/event/rso-advisor-meeting/
LOCATION:Allied Health Building\, 701 Sammy Davis Jr Drive\, Langston\, OK\, 73050\, United States
END:VEVENT
BEGIN:VEVENT
DTSTART;TZID=America/Chicago:20250422T190800
DTEND;TZID=America/Chicago:20250422T203000
DTSTAMP:20260422T172829
CREATED:20250419T234125Z
LAST-MODIFIED:20250419T234125Z
UID:10000822-1745348880-1745353800@langston.edu
SUMMARY:Miss Pink and Green
DESCRIPTION:Miss Pink and Green and Mr. Alpha Zeta Scholarship Pageant Informational hosted bycAlpha Kappa Alpha Sorority Inc.\, Alpha Zeta Chapter in Allied Health on April 22\, 2025 at 7:08 pm. \nThis event is supported by the Office of Student Life.
URL:https://langston.edu/event/miss-pink-and-green/
LOCATION:Allied Health Building\, 701 Sammy Davis Jr Drive\, Langston\, OK\, 73050\, United States
END:VEVENT
BEGIN:VEVENT
DTSTART;TZID=America/Chicago:20250421T160000
DTEND;TZID=America/Chicago:20250421T173000
DTSTAMP:20260422T172829
CREATED:20250418T142359Z
LAST-MODIFIED:20250418T142359Z
UID:10000818-1745251200-1745256600@langston.edu
SUMMARY:Inspiring Future Healers
DESCRIPTION:Early Engagement in Primary Care (E2PC) at Langston University invites you to participate in the April 21\, 2025\, Inspiring Future Healers with the OU College of Medicine program. Stop by Allied Health\, Room 105 from 4:00 to 5:30 pm to hear experienced doctors share their personal journeys to becoming medical professionals. \nThose attending will also have the opportunity to connect and receive mentorship and guidance in pursuing a career in medicine. Don’t miss out on this chance to learn from those who walked the path before you! \nThe Early Engagement in Primary Care (E2PC) program at Langston University plays a crucial role in promoting diversity within the medical field. Click here to learn more about E2PC at Langston University. \nIf you are planning to attend the Inspiring Future Healers program\, please register here.
URL:https://langston.edu/event/inspiring-future-healers/
LOCATION:Allied Health Building\, 701 Sammy Davis Jr Drive\, Langston\, OK\, 73050\, United States
END:VEVENT
BEGIN:VEVENT
DTSTART;TZID=America/Chicago:20250415T170000
DTEND;TZID=America/Chicago:20250415T183000
DTSTAMP:20260422T172829
CREATED:20250404T174121Z
LAST-MODIFIED:20250404T174121Z
UID:10000771-1744736400-1744741800@langston.edu
SUMMARY:Let's Talk About Cancer
DESCRIPTION:Early Engagement in Primary Care (E2PC) at Langston University invites you to Let’s Talk About Cancer on Tuesday\, April 15\, 2025\, in the Allied Health Building\, Room 105 from 5:00 to 6:30 pm. \nDr. Adam Alexander \n \nJoin an engaging presentation by Dr. Adam Alexander\, a dedicated researcher focusing on bridging the gap between research and real-world outcomes in cancer awareness and prevention for Black and African American communities. \nThe Early Engagement in Primary Care (E2PC) program at Langston University plays a crucial role in promoting diversity within the medical field. Click here to learn more about E2PC at Langston University. \nPlanning to Attend the Presentation \nIf you are planning to attend\, please click here to RSVP. Deadline to RSVP is April 10\, 2025. \n 
URL:https://langston.edu/event/event-lets-talk-about-cancer/
LOCATION:Allied Health Building\, 701 Sammy Davis Jr Drive\, Langston\, OK\, 73050\, United States
END:VEVENT
BEGIN:VEVENT
DTSTART;TZID=America/Chicago:20250127T170000
DTEND;TZID=America/Chicago:20250127T180000
DTSTAMP:20260422T172829
CREATED:20250127T142312Z
LAST-MODIFIED:20250127T142312Z
UID:10000645-1737997200-1738000800@langston.edu
SUMMARY:RSO Funding Allocation Meeting
DESCRIPTION:RSO Funding Allocation Meeting hosted by the Student Government Association (SGA) Senate is scheduled on January 27\, 2025\, at 5:00 pm in Allied Health Room 105. \nThis event is supported by the Office of Student Life.
URL:https://langston.edu/event/rso-funding-allocation-meeting/
LOCATION:Allied Health Building\, 701 Sammy Davis Jr Drive\, Langston\, OK\, 73050\, United States
END:VEVENT
BEGIN:VEVENT
DTSTART;TZID=America/Chicago:20250114T180000
DTEND;TZID=America/Chicago:20250114T190000
DTSTAMP:20260422T172829
CREATED:20250113T173619Z
LAST-MODIFIED:20250113T173619Z
UID:10000632-1736877600-1736881200@langston.edu
SUMMARY:Registered Student Organization Meeting
DESCRIPTION:The Office of Student Life has scheduled a Registered Student Organization Meeting on January 14\, 2025\, from 6:00 to 7:00 pm in the Allied Health Room 105. \nAttendance at this meeting is mandatory. Please send at least one student leader and one advisor per organization. All RSOs must have an Advisor in the Lion Links platform by this meeting. View the flier here.
URL:https://langston.edu/event/rso-meeting/
LOCATION:Allied Health Building\, 701 Sammy Davis Jr Drive\, Langston\, OK\, 73050\, United States
END:VEVENT
END:VCALENDAR