BEGIN:VCALENDAR
VERSION:2.0
PRODID:-//Langston University - ECPv6.5.2//NONSGML v1.0//EN
CALSCALE:GREGORIAN
METHOD:PUBLISH
X-ORIGINAL-URL:https://langston.edu
X-WR-CALDESC:Events for Langston University
REFRESH-INTERVAL;VALUE=DURATION:PT1H
X-Robots-Tag:noindex
X-PUBLISHED-TTL:PT1H
BEGIN:VTIMEZONE
TZID:America/Chicago
BEGIN:DAYLIGHT
TZOFFSETFROM:-0600
TZOFFSETTO:-0500
TZNAME:CDT
DTSTART:20240310T080000
END:DAYLIGHT
BEGIN:STANDARD
TZOFFSETFROM:-0500
TZOFFSETTO:-0600
TZNAME:CST
DTSTART:20241103T070000
END:STANDARD
END:VTIMEZONE
BEGIN:VEVENT
DTSTART;TZID=America/Chicago:20241118T080000
DTEND;TZID=America/Chicago:20241122T190000
DTSTAMP:20260424T154903
CREATED:20240711T223145Z
LAST-MODIFIED:20241112T144134Z
UID:10000032-1731916800-1732302000@langston.edu
SUMMARY:Finals Week Begins
DESCRIPTION:Finals Week during Fall Semester is November 18-22\, 2024. Good luck on your finals!
URL:https://langston.edu/event/finals-week/
LOCATION:Campus\, 701 Sammy Davis Jr Dr\, Langston\, OK\, 73050\, United States
CATEGORIES:Campus Events
ATTACH;FMTTYPE=image/jpeg:https://langston.edu/wp-content/uploads/2024/01/Clock-tower-with-evening-sky-2.jpeg
END:VEVENT
BEGIN:VEVENT
DTSTART;TZID=America/Chicago:20241110T080000
DTEND;TZID=America/Chicago:20241116T190000
DTSTAMP:20260424T154903
CREATED:20240711T222911Z
LAST-MODIFIED:20241022T152031Z
UID:10000031-1731225600-1731783600@langston.edu
SUMMARY:Dead Week Nov 10th - 16th
DESCRIPTION:Dead Week during Fall Semester is November 10-16\, 2024.
URL:https://langston.edu/event/dead-week/
LOCATION:Campus\, 701 Sammy Davis Jr Dr\, Langston\, OK\, 73050\, United States
CATEGORIES:Campus Events
ATTACH;FMTTYPE=image/png:https://langston.edu/wp-content/uploads/2024/02/Screenshot-2024-02-12-at-1.30.23 PM.png
END:VEVENT
BEGIN:VEVENT
DTSTART;VALUE=DATE:20241013
DTEND;VALUE=DATE:20241020
DTSTAMP:20260424T154903
CREATED:20240711T223642Z
LAST-MODIFIED:20241015T221330Z
UID:10000030-1728777600-1729382399@langston.edu
SUMMARY:Homecoming Week
DESCRIPTION:Mark your calendar for Homecoming Week: October 13-19\, 2024. \nView Homecoming Schedule.
URL:https://langston.edu/event/homecoming-week/
LOCATION:Campus\, 701 Sammy Davis Jr Dr\, Langston\, OK\, 73050\, United States
CATEGORIES:Campus Events
ATTACH;FMTTYPE=image/jpeg:https://langston.edu/wp-content/uploads/2024/02/53297932618_be092c5c4e_k.jpeg
END:VEVENT
BEGIN:VEVENT
DTSTART;TZID=America/Chicago:20240829T110000
DTEND;TZID=America/Chicago:20240829T120000
DTSTAMP:20260424T154903
CREATED:20240729T171548Z
LAST-MODIFIED:20240816T185708Z
UID:10000034-1724929200-1724932800@langston.edu
SUMMARY:Opening Convocation
DESCRIPTION:The Langston University Formal Opening Convocation will take place Thursday\, August 29\, 2024\, at 11:00 a.m. in the I.W. Young Auditorium. During opening convocation\, President Ruth Ray Jackson will address the University. \nAcademic faculty are invited to participate in the opening procession at the event. Please be reminded that full academic regalia is worn during this event. \nFormal Opening Convocation is a campus wide event. All students\, faculty and staff are asked to attend.
URL:https://langston.edu/event/opening-convocation/
LOCATION:I.W. Young Auditorium
CATEGORIES:Campus Events
ATTACH;FMTTYPE=image/jpeg:https://langston.edu/wp-content/uploads/2024/07/53359932281_b4f462a3bf_c-1.jpg
END:VEVENT
BEGIN:VEVENT
DTSTART;TZID=America/Chicago:20240812T080000
DTEND;TZID=America/Chicago:20240819T190000
DTSTAMP:20260424T154903
CREATED:20240711T222012Z
LAST-MODIFIED:20240813T180040Z
UID:10000028-1723449600-1724094000@langston.edu
SUMMARY:Welcome Back Week
DESCRIPTION:Enjoy Welcome Week activities from August 12th to August 16th\, 2024. \nLook for more details to come.
URL:https://langston.edu/event/welcome-back-week/
LOCATION:Campus\, 701 Sammy Davis Jr Dr\, Langston\, OK\, 73050\, United States
CATEGORIES:Campus Events
ATTACH;FMTTYPE=image/png:https://langston.edu/wp-content/uploads/2024/02/Screenshot-2024-02-09-at-12.29.26 PM-e1707503425370.png
END:VEVENT
END:VCALENDAR