BEGIN:VCALENDAR
VERSION:2.0
PRODID:-//Langston University - ECPv6.5.2//NONSGML v1.0//EN
CALSCALE:GREGORIAN
METHOD:PUBLISH
X-WR-CALNAME:Langston University
X-ORIGINAL-URL:https://langston.edu
X-WR-CALDESC:Events for Langston University
REFRESH-INTERVAL;VALUE=DURATION:PT1H
X-Robots-Tag:noindex
X-PUBLISHED-TTL:PT1H
BEGIN:VTIMEZONE
TZID:America/Chicago
BEGIN:DAYLIGHT
TZOFFSETFROM:-0600
TZOFFSETTO:-0500
TZNAME:CDT
DTSTART:20260308T080000
END:DAYLIGHT
BEGIN:STANDARD
TZOFFSETFROM:-0500
TZOFFSETTO:-0600
TZNAME:CST
DTSTART:20261101T070000
END:STANDARD
END:VTIMEZONE
BEGIN:VEVENT
DTSTART;TZID=America/Chicago:20260423T180000
DTEND;TZID=America/Chicago:20260423T193000
DTSTAMP:20260423T014441
CREATED:20251023T194209Z
LAST-MODIFIED:20260422T132343Z
UID:10001272-1776967200-1776972600@langston.edu
SUMMARY:Let The River Run: 2026 Spring Choral Concert
DESCRIPTION:Let The River Run\, the LU Spring Choral Concert will be performed by the Department of Music on Thursday\, April 23\, 2026\, in the St. John Missionary Baptist Church\, at 6:00 pm. St. John Missionary Baptist Church is located at 5700 N Kelley Avenue in Oklahoma City. \nThe 2026 Concert Features: \n\nLangston University Concert Choir\, Dr. Chukwuebuka G. Ezeakacha\, Director of Choral Activities\nProf. Meichen Hou Hughbanks\, Collaborative Pianist\n\nWith Performances by: \n\nThe Adult Choir\, St. John Missionary Baptist Church\, OKC\, Dr. Terry Springer\, Director\nMillwood Falcon Chorale\, Millwood Arts Academy & Millwood High School\, Mr. D’Mandre McCall\, Director\n\nAnd Solo Guest Performance by:\nMr. Dishon Williams\, Tenor \nDonations to the Langston University Choir are welcomed! Click here to donate. \nSee you at the 2026 LU Spring Choral Concert at St. John Missionary Baptist Church! \nLangston University is Oklahoma’s HBCU. \n  \n  \n 
URL:https://langston.edu/event/spring-choir-concert-2026/
LOCATION:St. John Missionary Baptist Church\, 5700 N Kelley Avenue\, Oklahoma City\, OK\, 73111\, United States
END:VEVENT
END:VCALENDAR